BEGIN:VCALENDAR
VERSION:2.0
PRODID:-//Phoenix Beach Volleyball - ECPv6.15.20//NONSGML v1.0//EN
CALSCALE:GREGORIAN
METHOD:PUBLISH
X-WR-CALNAME:Phoenix Beach Volleyball
X-ORIGINAL-URL:https://phoenixbeachvb.com
X-WR-CALDESC:Events for Phoenix Beach Volleyball
REFRESH-INTERVAL;VALUE=DURATION:PT1H
X-Robots-Tag:noindex
X-PUBLISHED-TTL:PT1H
BEGIN:VTIMEZONE
TZID:America/Phoenix
BEGIN:STANDARD
TZOFFSETFROM:-0700
TZOFFSETTO:-0700
TZNAME:MST
DTSTART:20250101T000000
END:STANDARD
END:VTIMEZONE
BEGIN:VEVENT
DTSTART;TZID=America/Phoenix:20260403T180000
DTEND;TZID=America/Phoenix:20260403T180000
DTSTAMP:20260423T093320
CREATED:20251207T022211Z
LAST-MODIFIED:20260402T021116Z
UID:10001832-1775239200-1775239200@phoenixbeachvb.com
SUMMARY:Friday Night Shuffle Draw
DESCRIPTION:🔥Friday Night Shuffle Draw 🔥 \nGet ready for a fast-paced night of volleyball\, new teammates every round\, and all the Friday night vibes you can handle! \n🗓️ Friday Night \n⏰ Check-In: 6:00 PM | Play Begins: 6:30 PM \n👥 32 Players Total – Limited Spots! \n💵 Cost: $25 per player (@phoenixbeachvb on Venmo or Zelle 480-249-2242) \nThis is a shuffle draw\, so you’ll get new teammates each round and face different opponents during pool play. Bracket play teams decided by pool play results. Each game counts as you rack up wins and climb the leaderboard for bragging rights and prizes! \n✅ All skill levels welcome \n✅ Multiple games guaranteed \n✅ Competitive\, social\, and high-energy atmosphere \n✅ Perfect way to kick off the weekend! \nSpots will fill fast—lock yours in early and come ready to play! 🏐🔥
URL:https://phoenixbeachvb.com/event/friday-night-shuffle-draw/2026-04-03/
LOCATION:RT O’Sullivan’s\, 7919 E Thomas Rd #101\, Scottsdale\, AZ\, 85251\, United States
END:VEVENT
END:VCALENDAR