BEGIN:VCALENDAR
VERSION:2.0
PRODID:-//Phoenix Beach Volleyball - ECPv6.15.20//NONSGML v1.0//EN
CALSCALE:GREGORIAN
METHOD:PUBLISH
X-WR-CALNAME:Phoenix Beach Volleyball
X-ORIGINAL-URL:https://phoenixbeachvb.com
X-WR-CALDESC:Events for Phoenix Beach Volleyball
REFRESH-INTERVAL;VALUE=DURATION:PT1H
X-Robots-Tag:noindex
X-PUBLISHED-TTL:PT1H
BEGIN:VTIMEZONE
TZID:America/Phoenix
BEGIN:STANDARD
TZOFFSETFROM:-0700
TZOFFSETTO:-0700
TZNAME:MST
DTSTART:20250101T000000
END:STANDARD
END:VTIMEZONE
BEGIN:VEVENT
DTSTART;TZID=America/Phoenix:20260404T100000
DTEND;TZID=America/Phoenix:20260404T170000
DTSTAMP:20260423T093233
CREATED:20260126T175229Z
LAST-MODIFIED:20260402T021223Z
UID:10001831-1775296800-1775322000@phoenixbeachvb.com
SUMMARY:Coed Doubles Draw
DESCRIPTION:Hey y’all\, we are going to have a fun format of a Doubles draw this Saturday. Taking eight guys and eight girls! All players get 5 games guaranteed to 21. Let’s find out who is going to be the top guy and the top girl! Pool play will be 3 games with 3 different  coed partners. Coed Bracket pairings will be based on your pool play results! \nEntry fee is $30 payable via Venmo or Zelle! Please send your entry fee upon sign up. Prizes for first and second place in each division. \nCheck-in 10 AM with first round of games beginning at 10:30 AM.
URL:https://phoenixbeachvb.com/event/coed-doubles-draw-2/2026-04-04/
LOCATION:RT O’Sullivan’s\, 7919 E Thomas Rd #101\, Scottsdale\, AZ\, 85251\, United States
END:VEVENT
END:VCALENDAR