BEGIN:VCALENDAR
VERSION:2.0
PRODID:-//Phoenix Beach Volleyball - ECPv6.15.20//NONSGML v1.0//EN
CALSCALE:GREGORIAN
METHOD:PUBLISH
X-ORIGINAL-URL:https://phoenixbeachvb.com
X-WR-CALDESC:Events for Phoenix Beach Volleyball
REFRESH-INTERVAL;VALUE=DURATION:PT1H
X-Robots-Tag:noindex
X-PUBLISHED-TTL:PT1H
BEGIN:VTIMEZONE
TZID:America/Phoenix
BEGIN:STANDARD
TZOFFSETFROM:-0700
TZOFFSETTO:-0700
TZNAME:MST
DTSTART:20250101T000000
END:STANDARD
END:VTIMEZONE
BEGIN:VEVENT
DTSTART;TZID=America/Phoenix:20260412T103000
DTEND;TZID=America/Phoenix:20260412T190000
DTSTAMP:20260423T093504
CREATED:20260323T023449Z
LAST-MODIFIED:20260323T023541Z
UID:10001826-1775989800-1776020400@phoenixbeachvb.com
SUMMARY:RJs Colorful Birthday Bash
DESCRIPTION:🌈 RJ’s Birthday Shuffle Draw 🌈 \nLet’s celebrate RJ the only way we know how… sand\, sunshine\, and a whole lot of volleyball. \n📅 Date: April 12th. Check in 1030AM\, play at 11! We’re going to brave the sun and heat! RJ wants to work on his tan 🤷‍♂️ \n🎉 Occasion: RJ’s Birthday Bash \n👥 Format: Shuffle Draw (new teammates every round) game format is based on the matchup each game! Bracket play is RJs choice also based on who signs up!! One thing we do know is RJ will pick his team! \n🌍 Who’s Invited: Everyone — all levels welcome! \nGet ready for a day full of bright vibes\, big plays\, and even bigger energy. RJ wants COLOR\, so pull up in your loudest fits—neons\, tie-dye\, whatever pops. The brighter\, the better. \nExpect great games\, good people\, and a birthday celebration you won’t want to miss. \n🎂 Come celebrate RJ and let’s run it up on the sand! \nEntry fee is $30\, please pay as soon as possible! Before the tournament starts is preferred! @phoenixbeachvb for Venmo or 480-249-2242 for Zelle \n\n 
URL:https://phoenixbeachvb.com/event/rjs-colorful-birthday-bash/
LOCATION:RT O’Sullivan’s\, 7919 E Thomas Rd #101\, Scottsdale\, AZ\, 85251\, United States
END:VEVENT
END:VCALENDAR