BEGIN:VCALENDAR
VERSION:2.0
PRODID:-//Phoenix Beach Volleyball - ECPv6.15.20//NONSGML v1.0//EN
CALSCALE:GREGORIAN
METHOD:PUBLISH
X-ORIGINAL-URL:https://phoenixbeachvb.com
X-WR-CALDESC:Events for Phoenix Beach Volleyball
REFRESH-INTERVAL;VALUE=DURATION:PT1H
X-Robots-Tag:noindex
X-PUBLISHED-TTL:PT1H
BEGIN:VTIMEZONE
TZID:America/Phoenix
BEGIN:STANDARD
TZOFFSETFROM:-0700
TZOFFSETTO:-0700
TZNAME:MST
DTSTART:20250101T000000
END:STANDARD
END:VTIMEZONE
BEGIN:VEVENT
DTSTART;TZID=America/Phoenix:20260424T180000
DTEND;TZID=America/Phoenix:20260424T180000
DTSTAMP:20260423T120915
CREATED:20260402T015806Z
LAST-MODIFIED:20260420T180456Z
UID:10001830-1777053600-1777053600@phoenixbeachvb.com
SUMMARY:Friday Night Coed Swingers
DESCRIPTION:🔥🏐 Friday Swingers 🏐🔥 \nWe’re taking up to 16 coed pairs\, first come\, first serve. You and your partner play together throughout the tournament! Play with 3 other coed pairs to form your 4 player squad against 3 other teams! Each game will be played to 21 win by 2. Half of the game will be played on men’s net “normal format and rules” and the other half is reverse coed! Revco rules : girls hit and block on a girls net. Guys set and play defense for the ladies! No jump serves and no downward attacks from any male player. If the ball goes over the net on an attack\, it has to have upward trajectory\, but beware\, guys are allowed to block any attack from a male player! \n📅 Event Details \n\nDate: Friday Night\nCheck-In: 6:00 PM\nPlay Begins: 6:30 PM\nFormat: 5 full games to 21 guaranteed!\nTournament will end approximately 12:30-1:30. The faster we get games going\, the sooner we finish!!\n\n💵 Entry Fee \n\n$25 per player\nPayment options:\n\nVenmo: phoenixbeachvb\nZelle: 480-249-2242\n\n\n\nPlease make sure you are paid in full before play begins.\nIf you cancel within 24 hours\, your entry fee is still due. Thanks for understanding!\n\n🏆 Prizes (based on sign-ups)
URL:https://phoenixbeachvb.com/event/friday-night-coed-swingers-2/
LOCATION:RT O’Sullivan’s\, 7919 E Thomas Rd #101\, Scottsdale\, AZ\, 85251\, United States
END:VEVENT
BEGIN:VEVENT
DTSTART;TZID=America/Phoenix:20260425T160000
DTEND;TZID=America/Phoenix:20260425T230000
DTSTAMP:20260423T120915
CREATED:20251117T022946Z
LAST-MODIFIED:20260420T180720Z
UID:10001834-1777132800-1777158000@phoenixbeachvb.com
SUMMARY:Phoenix Beach Men’s B level Doubles
DESCRIPTION:Phoenix Beach is getting back into some DUBS! Men’s Doubles tournament\, B level Men’s 2s! \nWe will be taking the first 8 pairs before we start the wait list. \n\nCheck in 4pm\nPlay at 430\n3 pool play games to 21\, switch sides every 7 points\nDouble elimination bracket play\n\nCost is $60 per team Payable via the following \nVenmo – @phoenixbeachvb \nZelle – 480-249-2242 \nCash day of \nWith a full field of 8 pairs\, we will have the following prizes** \n\nFirst place – AVP OPTX Volleyball (or) backpack\nSecond place – Custom Phoenix Beach L/S hooded shirt\n\n*If you drop within 24 hours of the tournament\, you will be expected to cover your entry fee* \n  \n**Prized adjusted based on teams signed up.
URL:https://phoenixbeachvb.com/event/phoenix-beach-mens-doubles-2/2026-04-25/
LOCATION:RT O’Sullivan’s\, 7919 E Thomas Rd #101\, Scottsdale\, AZ\, 85251\, United States
END:VEVENT
BEGIN:VEVENT
DTSTART;TZID=America/Phoenix:20260515T180000
DTEND;TZID=America/Phoenix:20260515T180000
DTSTAMP:20260423T120915
CREATED:20260417T162503Z
LAST-MODIFIED:20260417T162503Z
UID:10001833-1778868000-1778868000@phoenixbeachvb.com
SUMMARY:Kelsie’s Birthday Shuffle Bash
DESCRIPTION:🎉 KELSIE’S BIRTHDAY SHUFFLE DRAW 🎉 \nWe’re celebrating Kelsie the best way we know how… under the lights with volleyball and good vibes 🏐✨ \n📅 Date: Friday\, May 15th \n⏰ Check-In: Starts at 6:00 PM \n🔥 Format: Shuffle Draw – His & Hers Style \nGet ready for a fun twist: \nHalf the game on the men’s net\, half on the ladies net (reverse coed rules in play). New teammates\, competitive games\, and nonstop energy all night long. \n🎂 Birthday Perks: \nKelsie gets VIP treatment and special birthday privileges for bracket play 👀 \n💰 Entry: $30 per player payable via Venmo prior to the tournament (@phoenixbeachvb) or Zelle (480-249-2242) \n🏆 Format Details: \n3 rounds of pool play with different teams each round \nFollowed by a seeded double elimination bracket. Finals expected to begin around 1230AM \nExpect great music\, a fun crowd\, and a night worth celebrating 🎶🍻 \nSpots will fill quick — lock in early! \n👉 Sign up: phoenixbeachvb.com \nIf you drop 24 hours before\, you are expected to still cover your entry fee. Thank you for understanding
URL:https://phoenixbeachvb.com/event/kelsies-birthday-shuffle-bash/
END:VEVENT
BEGIN:VEVENT
DTSTART;TZID=America/Phoenix:20260523T160000
DTEND;TZID=America/Phoenix:20260523T233000
DTSTAMP:20260423T120915
CREATED:20251023T163204Z
LAST-MODIFIED:20260216T154055Z
UID:10001786-1779552000-1779579000@phoenixbeachvb.com
SUMMARY:👸 Queens of Phoenix Beach Team 4s 👸
DESCRIPTION:👸 Queens of Phoenix Women’s 4s 👸\nPut it on your calendars! We’re hosting an all ladies team 4s BYOT event at Phoenix Beach to find out who our QUEENS of Phoenix are! You thought the men’s was entertaining \, wait until you see what these ladies bring! There are going to be some epic blocks\, big rallies and some insane bounces! \nPut your squads together and let’s make this happen! We are taking a max 12 teams for this event\, so lock up your spot quickly! \n\nLocation – RTO Sullivans in Scottsdale\nTime – 4PM Check in\nFormat – Bring Your Own Team Women’s 4s\nEntry Fee $160 per team (captains are responsible for collecting for their team)\nPrizes for top 3 teams with a full field!\n🥇- $320 plus each player gets choice of (2) items. Backpack\, Ball\, Stanley cup or preorder the 2026 Edition Slunks\n🥈- $160 and choice of Ball or Backpack\n🥉- $80 and custom Phoenix Beach shirt\n\n  \n1st Place  \n ($800 value) \n2nd Place  \n$160 and an OPTX ball or AVP Backpack \n        3rd Place  \n$80 Cash and Custom T or Tank \n  \nVenmo @phoenixbeachvb \nZelle 480-249-2242 \nCash day of \n*prizes with a full field. Will be adjusted based on sign ups*
URL:https://phoenixbeachvb.com/event/%f0%9f%91%b8-queens-of-phoenix-beach-team-4s-%f0%9f%91%b8/
LOCATION:RT O’Sullivan’s\, 7919 E Thomas Rd #101\, Scottsdale\, AZ\, 85251\, United States
END:VEVENT
BEGIN:VEVENT
DTSTART;TZID=America/Phoenix:20261127T120000
DTEND;TZID=America/Phoenix:20261127T203000
DTSTAMP:20260423T120915
CREATED:20251103T195004Z
LAST-MODIFIED:20251128T145042Z
UID:10001793-1795780800-1795811400@phoenixbeachvb.com
SUMMARY:6th Annual Black Friday ACE
DESCRIPTION:🖤 6th Annual Black Friday ACE 🖤 \nIt’s back — and bigger than ever. The Black Friday ACE Tournament is THE PLACE TO BE the day after Thanksgiving! Grab your squad\, dust off your best 6’s lineup (minimum 2 ladies per team)\, and get ready for one of Phoenix Beach Volleyball’s most iconic events of the year. \n📍 Check-in: 11:30AM \n🏐 First Serve: 12PM \n💰 Entry: $240 per team of 6 — includes 2 buckets of (6) adult beverages! \n👕 Format: 3 pool-play games to 25 (win by 2\, no cap)\, followed by a double-elimination bracket \n🧢 Sign-up Options: Full team • Partial team • Free agents welcome \n🏆 Prizes: \n\n1st Place: Custom Black Friday ACE Champion Hoodies + AVP OPTX Ball or Backpack or Slunks (based on availability)\n2nd Place: Black Friday ACE Hoodies\n\n😈 What’s “ACE”? \nIt’s volleyball… with a little chaos mixed in. \nAn ACE is when a team scores a point without the opponent getting a touch. In the OG ACE format\, that meant leaving the court and drinking. This year\, we’re dialing it in — same laughs\, slightly fewer hangovers. \n⚡ The Rules (a.k.a. “Guidelines for Mayhem”): \n\n🍻 Drinking is optional. We’re here to have fun\, not make bad decisions. Be smart.\n✊ ACE’d? Time for Rock / Paper / Scissors!\n\nScoring team must win twice to keep the ball.\nThe ACE’d team wins once to take possession.\n\n\n\n🤜 One rep from each team steps up to battle in RPS.\n\nLose the round? Everyone exits the court.\nThose choosing to drink may do so\, but beware — if your team isn’t ready and someone steps on early\, the serving team can instantly serve.\n\n\n\n🔁 Teams must rotate. Back-row attacks are fair game.\n🕸️ Safety first. Minor net brushes are fine — full-arm tangles are not.\n🧱 Blocking serves = LEGAL.\n\nLifts = LEGAL.\nDoubles = LEGAL.\nDiving throws = LEGAL.\nBasically: Keep the ball alive and keep it entertaining.\n\n\n\n🏐 Have fun\, stay safe\, and remember: this day is all about the community\, the chaos\, and the volleyball we love.\n\n🔥 Buckets come from a pre-set list — so choose wisely. \nGet your team together early… because this one fills fast. \nBlack Friday. Big Plays. Bigger Laughs. Epic Tradition. \nSee you on the sand. 🌵🏐
URL:https://phoenixbeachvb.com/event/6th-annual-black-friday-ace/
LOCATION:RT O’Sullivan’s\, 7919 E Thomas Rd #101\, Scottsdale\, AZ\, 85251\, United States
END:VEVENT
END:VCALENDAR