BEGIN:VCALENDAR
VERSION:2.0
PRODID:-//Phoenix Beach Volleyball - ECPv6.15.20//NONSGML v1.0//EN
CALSCALE:GREGORIAN
METHOD:PUBLISH
X-ORIGINAL-URL:https://phoenixbeachvb.com
X-WR-CALDESC:Events for Phoenix Beach Volleyball
REFRESH-INTERVAL;VALUE=DURATION:PT1H
X-Robots-Tag:noindex
X-PUBLISHED-TTL:PT1H
BEGIN:VTIMEZONE
TZID:America/Phoenix
BEGIN:STANDARD
TZOFFSETFROM:-0700
TZOFFSETTO:-0700
TZNAME:MST
DTSTART:20220101T000000
END:STANDARD
END:VTIMEZONE
BEGIN:VEVENT
DTSTART;TZID=America/Phoenix:20230507T103000
DTEND;TZID=America/Phoenix:20230507T170000
DTSTAMP:20260425T205407
CREATED:20230122T181507Z
LAST-MODIFIED:20230526T193958Z
UID:10000726-1683455400-1683478800@phoenixbeachvb.com
SUMMARY:Sunday Traditional Swingers
DESCRIPTION:Sunday Swingers this week is Traditional sign ups!! Each pair will play 2 games on mens net\, 2 games on ladies net for a total of 4 pool play games!! After pool play\, you’ll be paired up with your teammates based on your pool play result for a fun filled double elimination bracket! All bracket play games are played on both courts\, with the highest seeded team in the winners bracket choosing what court they want to start on! \nWe are taking 16 pairs! \nCheck in is 1030am\, play begins at 11am sharp! Cost for this event is only $25 per player! \nPayable via the following options \nVenmo (@phoenixbeachvb) \nCashApp ($phoenixbeachvb) \nZelle (480-249-2242) \nCash prizes for first ($200) and second place ($100) with a full field! \n  \nIf you drop inside of 24 hours of the start of the tournament\, you will be expected to cover your entry fee. Thank you for understanding.
URL:https://phoenixbeachvb.com/event/sunday-swingers-draw/2023-05-07/
LOCATION:RT O’Sullivan’s\, 7919 E Thomas Rd #101\, Scottsdale\, AZ\, 85251\, United States
END:VEVENT
BEGIN:VEVENT
DTSTART;TZID=America/Phoenix:20230512T180000
DTEND;TZID=America/Phoenix:20230512T180000
DTSTAMP:20260425T205407
CREATED:20210717T002134Z
LAST-MODIFIED:20241105T204132Z
UID:10001578-1683914400-1683914400@phoenixbeachvb.com
SUMMARY:Phoenix Beach “Winter Warriors” Coed Friday Night Draw
DESCRIPTION:Starting this week we are going to our winter schedule for Phoenix Beach Friday Night Draw at RTO Sullivan’s! Temps are dropping fast\, so we can only take up to 24 players for these events! This means you’ll sit less\, play more and get home sooner! Smaller\, faster tournaments\, more bang for your buck! Check in (player arrival) starts at 6PM\, and play begins at 630PM. This event is for all players C level and up! Any requests to play together will be accommodated\, as long as it’s not an unfairly strong team. \nThe cost is $30 per player\, payable via the following options:\nVenmo (phoenixbeachvb)\npaypal (phoenixbeachvb@gmail.com)\nCashApp ($phoenixbeachvb)\nZelle (480-249-2242) \nAll players/teams will get 3 pool play games followed by a double elimination bracket play tournament! That’s 5 full games to 21! \nPrizes for 1st place will win a brand new OPTX ball and second place will get a Phoenix beach hoodie with a full field of 24 players!
URL:https://phoenixbeachvb.com/event/friday-night-draw-2021-08-13-2021-08-27-2021-10-01-2021-12-10-2022-09-16-2022-11-11-2022-12-09/2023-05-12/
LOCATION:RT O’Sullivan’s\, 7919 E Thomas Rd #101\, Scottsdale\, AZ\, 85251\, United States
END:VEVENT
BEGIN:VEVENT
DTSTART;TZID=America/Phoenix:20230519T180000
DTEND;TZID=America/Phoenix:20230519T180000
DTSTAMP:20260425T205407
CREATED:20210717T002134Z
LAST-MODIFIED:20241105T204132Z
UID:10001579-1684519200-1684519200@phoenixbeachvb.com
SUMMARY:Phoenix Beach “Winter Warriors” Coed Friday Night Draw
DESCRIPTION:Starting this week we are going to our winter schedule for Phoenix Beach Friday Night Draw at RTO Sullivan’s! Temps are dropping fast\, so we can only take up to 24 players for these events! This means you’ll sit less\, play more and get home sooner! Smaller\, faster tournaments\, more bang for your buck! Check in (player arrival) starts at 6PM\, and play begins at 630PM. This event is for all players C level and up! Any requests to play together will be accommodated\, as long as it’s not an unfairly strong team. \nThe cost is $30 per player\, payable via the following options:\nVenmo (phoenixbeachvb)\npaypal (phoenixbeachvb@gmail.com)\nCashApp ($phoenixbeachvb)\nZelle (480-249-2242) \nAll players/teams will get 3 pool play games followed by a double elimination bracket play tournament! That’s 5 full games to 21! \nPrizes for 1st place will win a brand new OPTX ball and second place will get a Phoenix beach hoodie with a full field of 24 players!
URL:https://phoenixbeachvb.com/event/friday-night-draw-2021-08-13-2021-08-27-2021-10-01-2021-12-10-2022-09-16-2022-11-11-2022-12-09/2023-05-19/
LOCATION:RT O’Sullivan’s\, 7919 E Thomas Rd #101\, Scottsdale\, AZ\, 85251\, United States
END:VEVENT
BEGIN:VEVENT
DTSTART;TZID=America/Phoenix:20230521T000000
DTEND;TZID=America/Phoenix:20230521T000000
DTSTAMP:20260425T205407
CREATED:20230214T175446Z
LAST-MODIFIED:20230214T175446Z
UID:10000571-1684627200-1684627200@phoenixbeachvb.com
SUMMARY:Sunday Swingers Draw
DESCRIPTION:A new Sunday Swingers format! Swingers Draw! You’ll play 2 games on mens net\, 2 games on ladies net with 3 different teammates each game! After pool play\, you’ll be paired up with your partner based on your pool play result! \nWe are taking 32 players\, 16 guys/16 gals! Comment in the event or sign up on the website! \nCheck in is 10am\, play begins at 1030 sharp! Cost is $25 per player \nPrizes for first and second place with a full field!
URL:https://phoenixbeachvb.com/event/sunday-swingers-draw-2/2023-05-21/
LOCATION:RT O’Sullivan’s\, 7919 E Thomas Rd #101\, Scottsdale\, AZ\, 85251\, United States
END:VEVENT
END:VCALENDAR