BEGIN:VCALENDAR
VERSION:2.0
PRODID:-//Phoenix Beach Volleyball - ECPv6.15.20//NONSGML v1.0//EN
CALSCALE:GREGORIAN
METHOD:PUBLISH
X-ORIGINAL-URL:https://phoenixbeachvb.com
X-WR-CALDESC:Events for Phoenix Beach Volleyball
REFRESH-INTERVAL;VALUE=DURATION:PT1H
X-Robots-Tag:noindex
X-PUBLISHED-TTL:PT1H
BEGIN:VTIMEZONE
TZID:America/Phoenix
BEGIN:STANDARD
TZOFFSETFROM:-0700
TZOFFSETTO:-0700
TZNAME:MST
DTSTART:20220101T000000
END:STANDARD
END:VTIMEZONE
BEGIN:VEVENT
DTSTART;TZID=America/Phoenix:20230714T180000
DTEND;TZID=America/Phoenix:20230714T180000
DTSTAMP:20260425T181504
CREATED:20210717T002134Z
LAST-MODIFIED:20241105T204132Z
UID:10001584-1689357600-1689357600@phoenixbeachvb.com
SUMMARY:Phoenix Beach “Winter Warriors” Coed Friday Night Draw
DESCRIPTION:Starting this week we are going to our winter schedule for Phoenix Beach Friday Night Draw at RTO Sullivan’s! Temps are dropping fast\, so we can only take up to 24 players for these events! This means you’ll sit less\, play more and get home sooner! Smaller\, faster tournaments\, more bang for your buck! Check in (player arrival) starts at 6PM\, and play begins at 630PM. This event is for all players C level and up! Any requests to play together will be accommodated\, as long as it’s not an unfairly strong team. \nThe cost is $30 per player\, payable via the following options:\nVenmo (phoenixbeachvb)\npaypal (phoenixbeachvb@gmail.com)\nCashApp ($phoenixbeachvb)\nZelle (480-249-2242) \nAll players/teams will get 3 pool play games followed by a double elimination bracket play tournament! That’s 5 full games to 21! \nPrizes for 1st place will win a brand new OPTX ball and second place will get a Phoenix beach hoodie with a full field of 24 players!
URL:https://phoenixbeachvb.com/event/friday-night-draw-2021-08-13-2021-08-27-2021-10-01-2021-12-10-2022-09-16-2022-11-11-2022-12-09/2023-07-14/
LOCATION:RT O’Sullivan’s\, 7919 E Thomas Rd #101\, Scottsdale\, AZ\, 85251\, United States
END:VEVENT
BEGIN:VEVENT
DTSTART;TZID=America/Phoenix:20230721T180000
DTEND;TZID=America/Phoenix:20230721T180000
DTSTAMP:20260425T181504
CREATED:20210717T002134Z
LAST-MODIFIED:20241105T204132Z
UID:10001585-1689962400-1689962400@phoenixbeachvb.com
SUMMARY:Phoenix Beach “Winter Warriors” Coed Friday Night Draw
DESCRIPTION:Starting this week we are going to our winter schedule for Phoenix Beach Friday Night Draw at RTO Sullivan’s! Temps are dropping fast\, so we can only take up to 24 players for these events! This means you’ll sit less\, play more and get home sooner! Smaller\, faster tournaments\, more bang for your buck! Check in (player arrival) starts at 6PM\, and play begins at 630PM. This event is for all players C level and up! Any requests to play together will be accommodated\, as long as it’s not an unfairly strong team. \nThe cost is $30 per player\, payable via the following options:\nVenmo (phoenixbeachvb)\npaypal (phoenixbeachvb@gmail.com)\nCashApp ($phoenixbeachvb)\nZelle (480-249-2242) \nAll players/teams will get 3 pool play games followed by a double elimination bracket play tournament! That’s 5 full games to 21! \nPrizes for 1st place will win a brand new OPTX ball and second place will get a Phoenix beach hoodie with a full field of 24 players!
URL:https://phoenixbeachvb.com/event/friday-night-draw-2021-08-13-2021-08-27-2021-10-01-2021-12-10-2022-09-16-2022-11-11-2022-12-09/2023-07-21/
LOCATION:RT O’Sullivan’s\, 7919 E Thomas Rd #101\, Scottsdale\, AZ\, 85251\, United States
END:VEVENT
BEGIN:VEVENT
DTSTART;TZID=America/Phoenix:20230728T190000
DTEND;TZID=America/Phoenix:20230728T233000
DTSTAMP:20260425T181504
CREATED:20230728T233248Z
LAST-MODIFIED:20230728T233250Z
UID:10001276-1690570800-1690587000@phoenixbeachvb.com
SUMMARY:July Birthdays Friday Night Draw
DESCRIPTION:Is this your birthday month?? Everyone with a July birthday gets $5 off their entry and a free drink just for signing up to play in this event! Also\, you can bring your own team or pick your players in a draft style\, order TBD! \nTemps are on the warmer side\, so we will be pushing our check in back! \nCheck in (player arrival) starts at 7pm\, and play begins at 730PM. This event is for all players C level and up! Any requests to play together will be accommodated\, as long as it’s not an unfairly strong team. \nThe cost is $25 per player\, payable via the following options:\nVenmo (phoenixbeachvb)\npaypal (phoenixbeachvb@gmail.com)\nCashApp ($phoenixbeachvb)\nZelle (480-249-2242 \nAll players/teams will get 4 pool play games followed by a double elimination bracket play tournament! That’s 6 games to 21! Pool play games are capped at 23\, bracket play games are no cap* \nCash prize for 1st place ? \nIf you drop within 24 hours of the start of the event\, you will be expected to cover your entry fee. Thanks for understanding.
URL:https://phoenixbeachvb.com/event/may-birthdays-fnd-2/
LOCATION:RT O’Sullivan’s\, 7919 E Thomas Rd #101\, Scottsdale\, AZ\, 85251\, United States
END:VEVENT
END:VCALENDAR