BEGIN:VCALENDAR
VERSION:2.0
PRODID:-//Phoenix Beach Volleyball - ECPv6.15.20//NONSGML v1.0//EN
CALSCALE:GREGORIAN
METHOD:PUBLISH
X-WR-CALNAME:Phoenix Beach Volleyball
X-ORIGINAL-URL:https://phoenixbeachvb.com
X-WR-CALDESC:Events for Phoenix Beach Volleyball
REFRESH-INTERVAL;VALUE=DURATION:PT1H
X-Robots-Tag:noindex
X-PUBLISHED-TTL:PT1H
BEGIN:VTIMEZONE
TZID:America/Phoenix
BEGIN:STANDARD
TZOFFSETFROM:-0700
TZOFFSETTO:-0700
TZNAME:MST
DTSTART:20220101T000000
END:STANDARD
END:VTIMEZONE
BEGIN:VEVENT
DTSTART;TZID=America/Phoenix:20230901T180000
DTEND;TZID=America/Phoenix:20230901T180000
DTSTAMP:20260425T131452
CREATED:20210717T002134Z
LAST-MODIFIED:20241105T204132Z
UID:10001589-1693591200-1693591200@phoenixbeachvb.com
SUMMARY:Phoenix Beach “Winter Warriors” Coed Friday Night Draw
DESCRIPTION:Starting this week we are going to our winter schedule for Phoenix Beach Friday Night Draw at RTO Sullivan’s! Temps are dropping fast\, so we can only take up to 24 players for these events! This means you’ll sit less\, play more and get home sooner! Smaller\, faster tournaments\, more bang for your buck! Check in (player arrival) starts at 6PM\, and play begins at 630PM. This event is for all players C level and up! Any requests to play together will be accommodated\, as long as it’s not an unfairly strong team. \nThe cost is $30 per player\, payable via the following options:\nVenmo (phoenixbeachvb)\npaypal (phoenixbeachvb@gmail.com)\nCashApp ($phoenixbeachvb)\nZelle (480-249-2242) \nAll players/teams will get 3 pool play games followed by a double elimination bracket play tournament! That’s 5 full games to 21! \nPrizes for 1st place will win a brand new OPTX ball and second place will get a Phoenix beach hoodie with a full field of 24 players!
URL:https://phoenixbeachvb.com/event/friday-night-draw-2021-08-13-2021-08-27-2021-10-01-2021-12-10-2022-09-16-2022-11-11-2022-12-09/2023-09-01/
LOCATION:RT O’Sullivan’s\, 7919 E Thomas Rd #101\, Scottsdale\, AZ\, 85251\, United States
END:VEVENT
BEGIN:VEVENT
DTSTART;TZID=America/Phoenix:20230902T160000
DTEND;TZID=America/Phoenix:20230902T223000
DTSTAMP:20260425T131452
CREATED:20230822T211613Z
LAST-MODIFIED:20230822T211707Z
UID:10001295-1693670400-1693693800@phoenixbeachvb.com
SUMMARY:King of Phoenix Beach
DESCRIPTION:The new courts are primed and ready to go for some high level 2s! Come check them out in our first KOB on the new sand! \nWho are we going to crown to be the King of Phoenix Beach?? Let’s find out! We will have a cash payout for the winner! All players are guaranteed 6 games\, finalists playing 9! You will most definitely get your moneys worth and earn the top prize! \nWe will have a 4pm check in\, 430 start for this event! \n$30 entry fee\, cash payout for ? and ?based on entries! \nEntry fees payable via the following options: \nVenmo @phoenixbeachvb\nCashapp $phoenixbeachvb\nZelle 480-249-2242
URL:https://phoenixbeachvb.com/event/king-of-phoenix-beach-2/
LOCATION:RT O’Sullivan’s\, 7919 E Thomas Rd #101\, Scottsdale\, AZ\, 85251\, United States
END:VEVENT
BEGIN:VEVENT
DTSTART;TZID=America/Phoenix:20230904T110000
DTEND;TZID=America/Phoenix:20230904T170000
DTSTAMP:20260425T131452
CREATED:20230823T213528Z
LAST-MODIFIED:20230825T023435Z
UID:10001297-1693825200-1693846800@phoenixbeachvb.com
SUMMARY:Labor Day Coed 2s
DESCRIPTION:What better way to enjoy a day off of laboring in the off\, than laboring in the sand with some coed dubs?! Check in 11am with play beginning at 11:30. Each pair will play 3 pool play games followed by a double elimination bracket! All games will be played to 21\, win by 2\, no cap. \nCost is $60/team with a cash prize for ?? based on entries! Sign up today! \nVenmo @phoenixbeachvb to save your spot!
URL:https://phoenixbeachvb.com/event/labor-day-coed-2s/
LOCATION:RT O’Sullivan’s\, 7919 E Thomas Rd #101\, Scottsdale\, AZ\, 85251\, United States
END:VEVENT
BEGIN:VEVENT
DTSTART;TZID=America/Phoenix:20230915T180000
DTEND;TZID=America/Phoenix:20230915T180000
DTSTAMP:20260425T131452
CREATED:20210717T002134Z
LAST-MODIFIED:20241105T204132Z
UID:10001590-1694800800-1694800800@phoenixbeachvb.com
SUMMARY:Phoenix Beach “Winter Warriors” Coed Friday Night Draw
DESCRIPTION:Starting this week we are going to our winter schedule for Phoenix Beach Friday Night Draw at RTO Sullivan’s! Temps are dropping fast\, so we can only take up to 24 players for these events! This means you’ll sit less\, play more and get home sooner! Smaller\, faster tournaments\, more bang for your buck! Check in (player arrival) starts at 6PM\, and play begins at 630PM. This event is for all players C level and up! Any requests to play together will be accommodated\, as long as it’s not an unfairly strong team. \nThe cost is $30 per player\, payable via the following options:\nVenmo (phoenixbeachvb)\npaypal (phoenixbeachvb@gmail.com)\nCashApp ($phoenixbeachvb)\nZelle (480-249-2242) \nAll players/teams will get 3 pool play games followed by a double elimination bracket play tournament! That’s 5 full games to 21! \nPrizes for 1st place will win a brand new OPTX ball and second place will get a Phoenix beach hoodie with a full field of 24 players!
URL:https://phoenixbeachvb.com/event/friday-night-draw-2021-08-13-2021-08-27-2021-10-01-2021-12-10-2022-09-16-2022-11-11-2022-12-09/2023-09-15/
LOCATION:RT O’Sullivan’s\, 7919 E Thomas Rd #101\, Scottsdale\, AZ\, 85251\, United States
END:VEVENT
BEGIN:VEVENT
DTSTART;TZID=America/Phoenix:20230916T160000
DTEND;TZID=America/Phoenix:20230916T230000
DTSTAMP:20260425T131452
CREATED:20230907T173550Z
LAST-MODIFIED:20230907T173706Z
UID:10001298-1694880000-1694905200@phoenixbeachvb.com
SUMMARY:Coed Swingers Draw
DESCRIPTION:Hey y’all\, we have a fun and new exciting doubles format to try\, mashing up a classic swingers tournament with coed doubles! We are taking 8 guys and 8 girls\, all players will play 3 pool games to 21\, half regular coed doubles and half reverse coed doubles (his/hers)! Games will switch side and net height at 11! Teams will be made up by your overall pool record (1-2\, 3-4 etc) for bracket play! If you win\, you stay together\, if you lose\, try again with a new pair! Bracket games are all his/hers net matches\, so everyone gets an opportunity to control the outcome of the game at the net! \nThe cost for this is event is $35/player. \nCheck in is 4pm\, play begins at 430! Hope you all can make it out!!
URL:https://phoenixbeachvb.com/event/coed-swingers-draw/
LOCATION:RT O’Sullivan’s\, 7919 E Thomas Rd #101\, Scottsdale\, AZ\, 85251\, United States
END:VEVENT
BEGIN:VEVENT
DTSTART;TZID=America/Phoenix:20230922T180000
DTEND;TZID=America/Phoenix:20230922T180000
DTSTAMP:20260425T131452
CREATED:20210717T002134Z
LAST-MODIFIED:20241105T204132Z
UID:10001591-1695405600-1695405600@phoenixbeachvb.com
SUMMARY:Phoenix Beach “Winter Warriors” Coed Friday Night Draw
DESCRIPTION:Starting this week we are going to our winter schedule for Phoenix Beach Friday Night Draw at RTO Sullivan’s! Temps are dropping fast\, so we can only take up to 24 players for these events! This means you’ll sit less\, play more and get home sooner! Smaller\, faster tournaments\, more bang for your buck! Check in (player arrival) starts at 6PM\, and play begins at 630PM. This event is for all players C level and up! Any requests to play together will be accommodated\, as long as it’s not an unfairly strong team. \nThe cost is $30 per player\, payable via the following options:\nVenmo (phoenixbeachvb)\npaypal (phoenixbeachvb@gmail.com)\nCashApp ($phoenixbeachvb)\nZelle (480-249-2242) \nAll players/teams will get 3 pool play games followed by a double elimination bracket play tournament! That’s 5 full games to 21! \nPrizes for 1st place will win a brand new OPTX ball and second place will get a Phoenix beach hoodie with a full field of 24 players!
URL:https://phoenixbeachvb.com/event/friday-night-draw-2021-08-13-2021-08-27-2021-10-01-2021-12-10-2022-09-16-2022-11-11-2022-12-09/2023-09-22/
LOCATION:RT O’Sullivan’s\, 7919 E Thomas Rd #101\, Scottsdale\, AZ\, 85251\, United States
END:VEVENT
BEGIN:VEVENT
DTSTART;TZID=America/Phoenix:20230922T180000
DTEND;TZID=America/Phoenix:20230922T180000
DTSTAMP:20260425T131452
CREATED:20230908T153903Z
LAST-MODIFIED:20250726T185428Z
UID:10001299-1695405600-1695405600@phoenixbeachvb.com
SUMMARY:Alex Warricks Bday Saturday Draw
DESCRIPTION:Heyyooo we’re doing this!! Birthday time for Miss Alex Warrick! The guest list is going to be reserved for her invited guests until Thursday before the tournament\, and then we will go to the general public! \nFormat is TBD but the theme is NBA themed\, specifically the Indiana Pacers if you are a fan! She’s a little devastated over the NBA finals and also what happened to Haliburton\, and she doesn’t want to let go. BTW we are capping at 32 players! Get your spot on the wait list soon as they’re going to fill quickly! \nCheck in (player arrival) starts at 6pm\, and play begins at 630. This event is for all players C level and up! Any requests to play together will be accommodated\, as long as it’s not an unfairly strong team. \nThe cost is $35 per player\, payable via the following options:\nVenmo (phoenixbeachvb)\nZelle (480-249-2242) \nAll players/teams will get 3 pool play games followed by a double elimination bracket play tournament! That’s a guaranteed 5 games to 21! Pool play games are capped at 23\, bracket play games are no cap* \nWinners get OPTX balls with a full field! \nIf you drop within 24 hours of the start of the event\, you will be expected to cover your entry fee. Thanks for understanding.
URL:https://phoenixbeachvb.com/event/alex-warricks-bday-fnd/2023-09-22/
LOCATION:RT O’Sullivan’s\, 7919 E Thomas Rd #101\, Scottsdale\, AZ\, 85251\, United States
END:VEVENT
END:VCALENDAR