BEGIN:VCALENDAR
VERSION:2.0
PRODID:-//Phoenix Beach Volleyball - ECPv6.15.20//NONSGML v1.0//EN
CALSCALE:GREGORIAN
METHOD:PUBLISH
X-WR-CALNAME:Phoenix Beach Volleyball
X-ORIGINAL-URL:https://phoenixbeachvb.com
X-WR-CALDESC:Events for Phoenix Beach Volleyball
REFRESH-INTERVAL;VALUE=DURATION:PT1H
X-Robots-Tag:noindex
X-PUBLISHED-TTL:PT1H
BEGIN:VTIMEZONE
TZID:America/Phoenix
BEGIN:STANDARD
TZOFFSETFROM:-0700
TZOFFSETTO:-0700
TZNAME:MST
DTSTART:20230101T000000
END:STANDARD
END:VTIMEZONE
BEGIN:VEVENT
DTSTART;TZID=America/Phoenix:20240802T180000
DTEND;TZID=America/Phoenix:20240802T180000
DTSTAMP:20260424T163407
CREATED:20230922T160430Z
LAST-MODIFIED:20240802T233134Z
UID:10001301-1722621600-1722621600@phoenixbeachvb.com
SUMMARY:The Lodders Fundraiser Friday Night Draw
DESCRIPTION:As most of you know\, we recently lost a beloved member of our volleyball family\, Cory Lodder\, who passed away suddenly on July 22. Cory was a loving husband\, father and such a good friend to so many people in our community. Let’s remember him doing something we know he loved doing and where most of us met him\, on the sand. One thing about Cory\, if you ever met him\, you knew if he was on your team for a tournament\, you knew the drinks were going to be flowing and you were going to be having an amazing time. That’s how we all will remember him. \nCheck in for this event is 6pm\, play will begin at 630. We will not have a set entry fee for this event\, but feel free to pay whatever amount works for you. We want everyone who was close to him to come out and celebrate his life with us. All proceeds will go to the Lodder family. \nPlayer pool will be capped at 40 players for this event. \nFirst place will receive a free entry to a future FND event at Phoenix Beach. Second place will get a 50% off entry to a future FND at Phoenix Beach. \nThank you all for reading this\, and I hope you can make it out this Friday to celebrate Cory Lodder with us. \nVenmo @thebeeej13 for your entry donations.
URL:https://phoenixbeachvb.com/event/just-a-regular-coed-friday-night-draw/
LOCATION:RT O’Sullivan’s\, 7919 E Thomas Rd #101\, Scottsdale\, AZ\, 85251\, United States
END:VEVENT
BEGIN:VEVENT
DTSTART;TZID=America/Phoenix:20240809T180000
DTEND;TZID=America/Phoenix:20240809T180000
DTSTAMP:20260424T163407
CREATED:20240724T144714Z
LAST-MODIFIED:20240925T172929Z
UID:10001538-1723226400-1723226400@phoenixbeachvb.com
SUMMARY:Elyse’s His/Hers Birthday Bash
DESCRIPTION:? **Join Us for Elyse’s Birthday Volleyball Tournament!** ?\n? **Date:** October 18th\n? **Time:** Check in 6PM\, Party starts at 6:30 PM\n? **Format:** His/Hers nets \nGet ready for a fantastic evening of volleyball\, fun\, and celebration! \n**Don’t miss out!** Mark your calendars and come celebrate with Elyse. Cant wait to see you on the court! \n***All spots are currently reserved for Elyse’s friends first. We will give open spots to general public sign ups on the waitlist on Wednesday 10/16*** \n?$35 per person payable via Venmo (@phoenixbeachvb) or Zelle (480-249-2242) \n? Prizes ? \nFirst place will receive choice of $70 cash or an OPTX ball. Second will receive a free tournament voucher or custom L/S District hoodie
URL:https://phoenixbeachvb.com/event/izzy-bells-birthday-draw/
LOCATION:RT O’Sullivan’s\, 7919 E Thomas Rd #101\, Scottsdale\, AZ\, 85251\, United States
END:VEVENT
BEGIN:VEVENT
DTSTART;TZID=America/Phoenix:20240816T180000
DTEND;TZID=America/Phoenix:20240816T180000
DTSTAMP:20260424T163407
CREATED:20240806T223634Z
LAST-MODIFIED:20240807T000909Z
UID:10001539-1723831200-1723831200@phoenixbeachvb.com
SUMMARY:Parker Lee Foxx Birthday DRAW!!
DESCRIPTION:Hey yall\, we’re up for another birthday draw! This week it’s one of our fav Air Force guys out at Luke AFB\, Parker Foxx! We hope you all can come help him celebrate a big year! He was recently married\, officially taking on the role of step dad to an amazing 14 year old girl that he coaches for indoor\, and just an all around great guy! \nCheck in is 6pm\, play begins at 630!! We will be reserving spots for his people\, but we will be opening it up to you all as well! \nCost is $25 payable via Venmo @phoenixbeachvb or Zelle 480-249-2242 \nWe welcome all players C level and up! Come experience some of the best and softest sand you’ll ever play on! Great music\, great vibes and a lot of fun at Phoenix Beach! \nReminder\, we are playing at a bar so no outside food or drinks are welcome. \n#byavolleyballplayerforthevolleyballplayers
URL:https://phoenixbeachvb.com/event/parker-lee-foxx-birthday-draw/
LOCATION:RT O’Sullivan’s\, 7919 E Thomas Rd #101\, Scottsdale\, AZ\, 85251\, United States
END:VEVENT
BEGIN:VEVENT
DTSTART;TZID=America/Phoenix:20240823T180000
DTEND;TZID=America/Phoenix:20240823T180000
DTSTAMP:20260424T163407
CREATED:20240823T205002Z
LAST-MODIFIED:20250116T162529Z
UID:10001541-1724436000-1724436000@phoenixbeachvb.com
SUMMARY:GIRL POWER Reverse Coed FND
DESCRIPTION:Girl Power\nGirls rule\, boys drool! This weeks Friday Night Draw at RTOs is for the ladies to take charge!! Reverse coed rules! Gals\, you control the net! Guys\, you’ll be setting and playing defense for the ladies! \nWe are taking up to 24 players\, and the number of guys signed up has a max of 12 or equal to the number of girls signed up. Check in is at 6PM\, play begins at 630. *If we do not get enough girls\, we will run it as a normal FND* \nThe cost is $25 per player\, payable via\nVenmo (@phoenixbeachvb)\nCashApp ($phoenixbeachvb)\nZelle (480-249-2242) \nAll players/teams will get 3 pool play games followed by a double elimination bracket play tournament! That’s 5 games to 21! Pool play games are capped at 23\, bracket play games are no cap* \nPrizes for first with a full field! This is a winner take all event! \nFirst Place – OPTX Balls \n 
URL:https://phoenixbeachvb.com/event/girl-power-fnd/
LOCATION:RT O’Sullivan’s\, 7919 E Thomas Rd #101\, Scottsdale\, AZ\, 85251\, United States
END:VEVENT
BEGIN:VEVENT
DTSTART;TZID=America/Phoenix:20240831T180000
DTEND;TZID=America/Phoenix:20240831T180000
DTSTAMP:20260424T163407
CREATED:20240824T190835Z
LAST-MODIFIED:20240826T044135Z
UID:10001542-1725127200-1725127200@phoenixbeachvb.com
SUMMARY:Saturday Night “Swingers”
DESCRIPTION:Doing something a little different this Saturday! We are going to do one of our more popular Sunday formats\, Traditional Swingers! \nSign up as a coed pair\, and stick with your partner all night long! Each pair will play 3 total games\, with each game being played on both mens nets and ladies nets\, with 3 different pairings!! After pool play\, you’ll be paired up with your first (and hopefully last!) teammates based on your pool play result for a fun filled double elimination bracket! If you lose\, you get another chance by partnering up with a different coed to team up with in the elimination bracket! All bracket play games are played on both net heights\, with rules applying for each format. The highest seeded team in the winners bracket gets to choose what format they want to start on! As teams drop into the elimination bracket\, the highest seed\, or the latest team to drop into the elimination bracket gets choice of format to start. \nWe are taking 16 pairs! \nCheck in is 6pm\, play begins at 630 sharp! Cost for this event is only $30 per player! \nPayable via the following options \nVenmo (@phoenixbeachvb) \nZelle (480-249-2242) \nCash or prizes for first ($240) and second place ($120) with a full field!
URL:https://phoenixbeachvb.com/event/friday-night-swingers/
END:VEVENT
END:VCALENDAR