BEGIN:VCALENDAR
VERSION:2.0
PRODID:-//Phoenix Beach Volleyball - ECPv6.15.20//NONSGML v1.0//EN
CALSCALE:GREGORIAN
METHOD:PUBLISH
X-ORIGINAL-URL:https://phoenixbeachvb.com
X-WR-CALDESC:Events for Phoenix Beach Volleyball
REFRESH-INTERVAL;VALUE=DURATION:PT1H
X-Robots-Tag:noindex
X-PUBLISHED-TTL:PT1H
BEGIN:VTIMEZONE
TZID:America/Phoenix
BEGIN:STANDARD
TZOFFSETFROM:-0700
TZOFFSETTO:-0700
TZNAME:MST
DTSTART:20230101T000000
END:STANDARD
END:VTIMEZONE
BEGIN:VEVENT
DTSTART;TZID=America/Phoenix:20241011T180000
DTEND;TZID=America/Phoenix:20241011T180000
DTSTAMP:20260424T133700
CREATED:20210717T002134Z
LAST-MODIFIED:20241011T224324Z
UID:10001549-1728669600-1728669600@phoenixbeachvb.com
SUMMARY:Alan Stury’s birthday\, and other October birthdays FND
DESCRIPTION:Alan’s birthday and other October Birthday Draw\nIs this your birthday month?? We know it’s Alans birthday on Friday\, Oct 11th so we are celebrating his birthday along with everyone else who has an October birthday! Everyone with an October birthday gets a free entry and a free drink just for signing up to play in this all inclusive October Birthday Draw! Also\, you can bring your own team or pick your players in a draft style\, order TBD! \nTemps are absolutely perfect \, so we can take up to 32 players for these events! Who can say no to a free drink and a fun filled volleyball tournament?! \nCheck in (player arrival) starts at 6PM\, and play begins at 630PM. This event is for all players C level and up! Any requests to play together will be accommodated\, as long as it’s not an unfairly strong team. \nThe cost is $35 per player\, payable via the following options:\nVenmo (phoenixbeachvb)\nCashApp ($phoenixbeachvb)\nZelle (480-249-2242) \nPhoenixbeachvb.com and click on the Friday Night Draw link! \nAll players/teams will get 3 pool play games followed by a double elimination bracket play tournament! That’s 5 games guaranteed to 21! Pool play games are capped at 23\, bracket play games are no cap* \nPRIZE POOL OVER $400!!*\nIf your team wins the ? with a full field \, you’ll be walking away with your choice of a brand new OPTX ball! ? will win a 5year anniversary T-shirt\, tank or District hoodie!\nIf you drop within 24 hours of the start of the event\, you will be expected to cover your entry fee. Thanks for understanding. \n*must be a full field
URL:https://phoenixbeachvb.com/event/friday-night-draw-2021-08-13-2021-08-27-2021-10-01-2021-12-10-2022-09-16-2022-11-11-2023-03-24-2023-04-28/2024-10-11/
LOCATION:RT O’Sullivan’s\, 7919 E Thomas Rd #101\, Scottsdale\, AZ\, 85251\, United States
END:VEVENT
BEGIN:VEVENT
DTSTART;TZID=America/Phoenix:20241013T103000
DTEND;TZID=America/Phoenix:20241013T170000
DTSTAMP:20260424T133700
CREATED:20241008T071251Z
LAST-MODIFIED:20241008T071312Z
UID:10001552-1728815400-1728838800@phoenixbeachvb.com
SUMMARY:Brett’s Birthday Sunday Swingers
DESCRIPTION:Hey y’all\, so a couple of things. It looks like Sundays are going to have some pretty reasonable temps moving forward\, aaaaaand it is my birthday weekend\, so there is no better reason to get some Sunday Traditional Swingers back up and running!!! As always\, we are taking up to 16 pairs\, first come first serve. \nI would love to start off year 39 with all of you! \nCheck in is at 1030\, play begins at 11. 6 full games to 21 are guaranteed!! \nThe cost is $35 per player\, with prizes for first and second place based on tournament sign ups. Tournament fees are payable via the following options:\nVenmo (phoenixbeachvb)\nCashApp ($phoenixbeachvb)\nZelle (480-249-2242)\nCash \nPlease ensure you are paid in full prior to tournament starting. Thank you.
URL:https://phoenixbeachvb.com/event/bretts-birthday-sunday-swingers/
LOCATION:RT O’Sullivan’s\, 7919 E Thomas Rd #101\, Scottsdale\, AZ\, 85251\, United States
END:VEVENT
BEGIN:VEVENT
DTSTART;TZID=America/Phoenix:20241025T180000
DTEND;TZID=America/Phoenix:20241025T180000
DTSTAMP:20260424T133700
CREATED:20241016T202431Z
LAST-MODIFIED:20241025T190720Z
UID:10001558-1729879200-1729879200@phoenixbeachvb.com
SUMMARY:Fright Night FND
DESCRIPTION:Get ready for a spooktacular night of volleyball at our “Fright Night” Tournament! This will be a coed 4s draw format\, so get your spooky friends and put together your squads of ghouls\, goblins or ghosts! Any requests to play together will be accommodated!! \n? Date: Friday\, October 25th \n? Player Arrival: 6:00 PM \n? Games Start: 6:30 PM \n? Costumes encouraged! Bring your best spooky\, funny\, or creative looks to the court!! \n? Prizes for: \n•Best Team Theme \n•Best Individual Costume \nIt’s time to bump\, set\, and spike in style! Assemble your team\, embrace the Halloween spirit\, and let’s have a frighteningly good time! \n?- $40 and everyone gets a free beverage!! \n*Prize Pool ($760)*\n?- choice of Wilson AVP OPTX ball or Backpack \nand choice of custom apparel! \n?- $40 cash or AVP Backpack \n?- custom Tshirt/Tank/District LS \n*prize pool with min. 8 teams. Will be adjusted based on teams signed up!*
URL:https://phoenixbeachvb.com/event/fright-night/
LOCATION:RT O’Sullivan’s\, 7919 E Thomas Rd #101\, Scottsdale\, AZ\, 85251\, United States
END:VEVENT
BEGIN:VEVENT
DTSTART;TZID=America/Phoenix:20241026T110000
DTEND;TZID=America/Phoenix:20241026T180000
DTSTAMP:20260424T133700
CREATED:20241007T182946Z
LAST-MODIFIED:20241007T182946Z
UID:10001551-1729940400-1729965600@phoenixbeachvb.com
SUMMARY:Regular Coed Triples
DESCRIPTION:Hey yall\, we had a request for this format and we are going to make it happen! Put your teams together for this fun tournament on the sand! Teams will consist of 2 guys and 1 gal. Games will be played on doubles lines for some high octane offense\, long rallies\, and most definitely some amazing plays! \nCheck in is 1030AM\, play begins at 11! Each team will play 3 pool play games to 21\, cap at 23\, followed by a double elimination bracket. Bracket play will be games to 21\, with no cap! \nCost is $35 per player payable via Venmo @phoenixbeachvb \nHuge prizes for our top 3 teams! \n?(OPTX ball) \n?($105) \n? (5year anniversary swag) \nwith a full field of 8 teams! \nYou can use TBD to save your spot if you don’t have confirmed teammates. Just update me via messenger once you confirm your squad.
URL:https://phoenixbeachvb.com/event/regular-coed-triples/
LOCATION:RT O’Sullivan’s\, 7919 E Thomas Rd #101\, Scottsdale\, AZ\, 85251\, United States
END:VEVENT
BEGIN:VEVENT
DTSTART;TZID=America/Phoenix:20241027T103000
DTEND;TZID=America/Phoenix:20241027T170000
DTSTAMP:20260424T133700
CREATED:20230607T004311Z
LAST-MODIFIED:20241120T032323Z
UID:10001559-1730025000-1730048400@phoenixbeachvb.com
SUMMARY:Sunday Traditional Swingers
DESCRIPTION:!!Sunday Swingers!!\nCongratulations to our champs from last week! Nathan\, Emily\, Samantha\, and the newcomer Erik Velkme! Great job! And happy birthday to Jayce\, thanks for having Phoenix beach host your birthday celebration! It was an epic time! \nSunday is going to have some pretty awesome temps for some volleyball\, so let’s get out and enjoy it! Phoenix Beach will be hosting another Sunday Traditional Swingers tournament at RTOs! \nWe are taking up to 16 pairs\, first come first serve. Sign up by clicking the registration link in comments\, or commenting in the event!! Check in is at 1030\, play begins at 11AM. 6 full games to 21 are guaranteed!! \nphoenixbeachvb.com to sign up for all events! \nThe cost is only $35 per player\, with prizes for first (OPTX ball or AVP Backpack) and second place (custom Phoenix Beach hoodie) based on tournament sign ups. Tournament fees are payable via the following options:\nVenmo (phoenixbeachvb)\nCashApp ($phoenixbeachvb)\nZelle (480-249-2242) \nPlease ensure you are paid in full prior to tournament starting. Thank you. If you cancel within 24 hours you will be expected to pay your entry fee. Thanks for understanding
URL:https://phoenixbeachvb.com/event/sunday-swingers-draw-3/2024-10-27/
LOCATION:RT O’Sullivan’s\, 7919 E Thomas Rd #101\, Scottsdale\, AZ\, 85251\, United States
END:VEVENT
END:VCALENDAR