BEGIN:VCALENDAR
VERSION:2.0
PRODID:-//Phoenix Beach Volleyball - ECPv6.15.20//NONSGML v1.0//EN
CALSCALE:GREGORIAN
METHOD:PUBLISH
X-ORIGINAL-URL:https://phoenixbeachvb.com
X-WR-CALDESC:Events for Phoenix Beach Volleyball
REFRESH-INTERVAL;VALUE=DURATION:PT1H
X-Robots-Tag:noindex
X-PUBLISHED-TTL:PT1H
BEGIN:VTIMEZONE
TZID:America/Phoenix
BEGIN:STANDARD
TZOFFSETFROM:-0700
TZOFFSETTO:-0700
TZNAME:MST
DTSTART:20240101T000000
END:STANDARD
END:VTIMEZONE
BEGIN:VEVENT
DTSTART;TZID=America/Phoenix:20250104T103000
DTEND;TZID=America/Phoenix:20250104T170000
DTSTAMP:20260424T091705
CREATED:20241223T180406Z
LAST-MODIFIED:20250104T184457Z
UID:10001619-1735986600-1736010000@phoenixbeachvb.com
SUMMARY:Angelique’s Birthday Bash!!
DESCRIPTION: **Join Us for Q’s Birthday Coed 4s Volleyball Tournament!**\n**Date:** Jan 4th\n**Time:** Check in 1030AM\, Party starts at 11AM\n**Format:** COED 4s His and Hers Nets \nGet ready for a fantastic day of volleyball\, fun\, and celebration! Angelique\, or Q as most of you know her\, wants to play some volleyball to celebrate her big day! \n**Don’t miss out!** Mark your calendars and come celebrate with Angelique. We can’t wait to see you on the court!! Everyone will get 3 pool play games\, all played to 21. Each game will be half guys net and half girls net. \n$35 per person payable via Venmo (@phoenixbeachvb) or Zelle (480-249-2242) \nPrizes *with a full field* \nFirst place will receive choice of an AVP Backpack or an OPTX ball. Second will receive a custom L/S District hoodie
URL:https://phoenixbeachvb.com/event/angeliques-birthday-bash/
LOCATION:RT O’Sullivan’s\, 7919 E Thomas Rd #101\, Scottsdale\, AZ\, 85251\, United States
END:VEVENT
BEGIN:VEVENT
DTSTART;TZID=America/Phoenix:20250110T180000
DTEND;TZID=America/Phoenix:20250110T180000
DTSTAMP:20260424T091705
CREATED:20250106T173747Z
LAST-MODIFIED:20250106T173747Z
UID:10001623-1736532000-1736532000@phoenixbeachvb.com
SUMMARY:First Frosty 4s of 2025 FND
DESCRIPTION:It’s time to ring in the new year with our first FND of 2025! It’s still our winter schedule for Phoenix Beach Friday Night Draw at RTO Sullivan’s\, so that means discounted entry fees and faster tournaments! \nTemps are dropping as soon as the sun goes down so we are only take up to 24 players for these events! This means you’ll sit less\, play more and get home sooner! Smaller\, faster tournaments\, plus more bang for your buck with the $25 entry fee!! Check in (player arrival) starts at 6PM\, and play begins at 630PM. This event is for all players C level and up! Any requests to play together will be accommodated\, as long as it’s not an unfairly strong team. \nThe cost is $25 per player\, payable via the following options:\nVenmo (phoenixbeachvb)\npaypal (phoenixbeachvb@gmail.com)\nCashApp ($phoenixbeachvb)\nZelle (480-249-2242) \nAll players/teams will get 3 pool play games followed by a double elimination bracket play tournament! That’s 5 full games to 21! \nThe prize for 1st place is a brand new OPTX ball\, and it’s winner take all!
URL:https://phoenixbeachvb.com/event/first-frosty-4s-of-2025-fnd/
LOCATION:RT O’Sullivan’s\, 7919 E Thomas Rd #101\, Scottsdale\, AZ\, 85251\, United States
END:VEVENT
BEGIN:VEVENT
DTSTART;TZID=America/Phoenix:20250111T103000
DTEND;TZID=America/Phoenix:20250111T190000
DTSTAMP:20260424T091705
CREATED:20241231T222024Z
LAST-MODIFIED:20241231T222024Z
UID:10001620-1736591400-1736622000@phoenixbeachvb.com
SUMMARY:Guess who’s back? Back Again! Annabella’s return to the desert!
DESCRIPTION:Bella’s Back!!\nEveryone has to leave the place they really want to be at least once just to make sure it’s true. Well\, Bella tried… she went back to Cali and found her heart still was here in Scottsdale! So here is here triumphant return party! \nShe wants to celebrate her determination to the desert in true AZ style\, a beach volleyball tournament in January! We know this is going to be big! \n  \nThe format is a fun one! Swingers style shuffle\, where everyone will play 3 pool play games with 3 different teams. (Possibly 4 pool play depending on time). Each team will consist of two guys and two girls and each game will be played on both men’s and ladies nets! The games will start on the net height the court is currently set at\, unless you’re on Bella’s team\, and she will be able to choose it all (side\, serve/receive and net height). Bracket play will be set teams based on your pool play results\, with the exception of Bella’s squad which will be hand picked by her! \nCheck in will be 1030AM with Pool Play starting sharply at 11AM! Please be on time so we can get these games going! \nFirst place will take home brand new AVP OPTX balls or AVP Backpack! Second place will get some custom swag! \nVenmo your $35 entry fee to @phoenixbeachvb or Zelle 480-249-2242. Thank you! \n**this event is reserved for Bella’s friends first. If you are placed on the waitlist\, it is because your spot is currently being held for someone. Once all of Bella’s peeps get in\, we will open it up to the wait list.**
URL:https://phoenixbeachvb.com/event/guess-whos-back-back-again-annabellas-return-to-the-desert/
LOCATION:RT O’Sullivan’s\, 7919 E Thomas Rd #101\, Scottsdale\, AZ\, 85251\, United States
END:VEVENT
BEGIN:VEVENT
DTSTART;TZID=America/Phoenix:20250112T103000
DTEND;TZID=America/Phoenix:20250112T170000
DTSTAMP:20260424T091705
CREATED:20250110T070823Z
LAST-MODIFIED:20250110T070823Z
UID:10001626-1736677800-1736701200@phoenixbeachvb.com
SUMMARY:“Serve For LA” Fundraiser Tournament
DESCRIPTION:🏐 Serve for a Cause: Fundraiser Volleyball Tournament 🌟\nThe recent wildfires in Los Angeles have devastated numerous communities\, including some of our own Phoenix Beach family\, where many of their families have tragically lost their homes. In this time of need\, your support can make a significant difference. We are teaming up with Annabella to run a fundraiser to help support those families directly affected by this tragedy \nJoin us for a day of fun\, community\, and giving back as we come together to support the families of Phoenix Beach who have lost their homes to the devastating LA wildfires. \n📅 Date: 1/12/2025 \n⏰ Time: 1030AM Check in \n📍 Location: R.T. O’Sullivan’s in Scottsdale \n💲 Suggested Entry Fee: $35 (All proceeds will be donated to Phoenix Beach families in need) \nVenmo @annabella-mcgilvray or bring cash. Can also Zelle 480-249-2242 \nTournament Details: \n•Format: Draw 4s \n•Skill Levels: All levels welcome! \n•Prizes: OPTX balls for 1st place and swag for 2nd place. \nHow You Can Help: \n•Sign up to play and bring your A-game! \n•Spread the word—invite friends\, family\, and fellow volleyball lovers. \n•Can’t attend? You can still donate to the cause! \nLet’s rally for a cause and make a difference in the lives of those affected. Together\, we can help our Phoenix Beach families rebuild and recover. \n📢 Your spike can spark hope—join us on the court!
URL:https://phoenixbeachvb.com/event/serve-for-la-fundraiser-tournament/
LOCATION:RT O’Sullivan’s\, 7919 E Thomas Rd #101\, Scottsdale\, AZ\, 85251\, United States
END:VEVENT
BEGIN:VEVENT
DTSTART;TZID=America/Phoenix:20250118T103000
DTEND;TZID=America/Phoenix:20250118T180000
DTSTAMP:20260424T091705
CREATED:20250108T175247Z
LAST-MODIFIED:20250614T192755Z
UID:10001625-1737196200-1737223200@phoenixbeachvb.com
SUMMARY:Regular Coed Triples
DESCRIPTION:Coed Triples\nWe’re running it back! Put your teams together for this fun tournament on the sand! Teams will consist of 2 guys and 1 gal. All games will be played on doubles lines for some high octane offense\, long rallies\, and most definitely some amazing plays! \nCheck in is 530PM\, play begins at 6. Each team will play 3 pool play games to 21\, cap at 23\, followed by a double elimination bracket. Bracket play will be games to 21\, with no cap! \nCost is $35 per player payable via Cash\, Venmo @phoenixbeachvb or Zelle (480-249-2242)\nAwesome prizes for our Finalists! \n1st place – OPTX ball or AVP Backpack \n2nd Place – Phoenix Beach Swag \n*with a full field of 8 teams* \nYou can use TBD to save your spot if you don’t have confirmed teammates. Just update me via messenger once you confirm your squad. \nIf you drop within 24hours of the start of the tournament\, you are responsible for your team fee!
URL:https://phoenixbeachvb.com/event/regular-coed-triples-2/
LOCATION:RT O’Sullivan’s\, 7919 E Thomas Rd #101\, Scottsdale\, AZ\, 85251\, United States
END:VEVENT
BEGIN:VEVENT
DTSTART;TZID=America/Phoenix:20250119T103000
DTEND;TZID=America/Phoenix:20250119T170000
DTSTAMP:20260424T091705
CREATED:20250108T174346Z
LAST-MODIFIED:20250108T191117Z
UID:10001624-1737282600-1737306000@phoenixbeachvb.com
SUMMARY:Kim’s Arkansas BFFs BFF Swingers!
DESCRIPTION:Kim’s BFFs Swingers\nHey y’all\, Kim has some friends from Arkansas coming to visit us in the desert\, and they want to get some ball in! The request is for BFF so they can all partner up\, so let’s make that happen! \nFind your same gender partner and sign up for a day of fun in the sun! All pairs will play 4 games of pool play\, 4 different formats! Something new here at Phoenix Beach! Two games will be coed 4s\, one on men’s net and one on ladies net\, one game of half men’s/ladies net\, and one game of same sex 4s! After pool play\, each pair will get matched up with the opposite gender pair with the same seeding (first overall seeds get paired together\, then second\, etc). Bracket play is double elimination! If you lose with your current pair\, you will be randomly matched with a new pair for the contenders bracket. \nSign ups must be equal men’s and ladies pairs! Taking up to 8 pairs of each gender! \nHere are the other important deets!! \n\nCost is $35 per player payable via Cash\, Venmo @phoenixbeachvb or Zelle 490-249-2242\nCheck in at 1030AM\nPool Play begins at 11AM\nBracket play will begin at approximately 2:30.\nPrizes with a full field will be AVP OPTX or backpack for 1st place. Phoenix Beach Swag for 2nd place.\n\nIf you drop within 24 hours of the start of the tournament\, you are responsible to pay for your entry fees. Thank you.
URL:https://phoenixbeachvb.com/event/kim-larson-and-her-arkansas-friends-bff-swingers/
LOCATION:RT O’Sullivan’s\, 7919 E Thomas Rd #101\, Scottsdale\, AZ\, 85251\, United States
END:VEVENT
BEGIN:VEVENT
DTSTART;TZID=America/Phoenix:20250124T180000
DTEND;TZID=America/Phoenix:20250124T233000
DTSTAMP:20260424T091705
CREATED:20250116T210702Z
LAST-MODIFIED:20250515T193833Z
UID:10001632-1737741600-1737761400@phoenixbeachvb.com
SUMMARY:GIRL POWER Reverse Coed FND
DESCRIPTION:Girl Power\nGirls rule\, boys drool! This weeks Friday Night Draw at RTOs is for the ladies to take charge!! Reverse coed rules! Gals\, you control the net! Guys\, you’ll be setting and playing defense for the ladies! \nEarly bird special applies for this tournament as well! Sign up by Wednesday at 5pm to get in for only $20!! \nWe are taking up to 32 players\, and the number of guys signed up has a max of 16 or equal to the number of girls signed up. Check in is at 6PM\, play begins at 630. *If we do not get enough girls\, we will run it as a normal FND* \nThe cost is $25 per player\, unless you’re an early bird\, then it’s $20! Entry fees payable via \nVenmo (@phoenixbeachvb) \nZelle (480-249-2242) \nCash \nAll players/teams will get 3 pool play games followed by a double elimination bracket play tournament! That’s 5 games to 21! Pool play games are capped at 23\, bracket play games are no cap* \nPrizes for first and second place with a full field! \n 
URL:https://phoenixbeachvb.com/event/girl-power-reverse-coed-fnd/2025-01-24/
LOCATION:RT O’Sullivan’s\, 7919 E Thomas Rd #101\, Scottsdale\, AZ\, 85251\, United States
END:VEVENT
END:VCALENDAR