BEGIN:VCALENDAR
VERSION:2.0
PRODID:-//Phoenix Beach Volleyball - ECPv6.15.20//NONSGML v1.0//EN
CALSCALE:GREGORIAN
METHOD:PUBLISH
X-ORIGINAL-URL:https://phoenixbeachvb.com
X-WR-CALDESC:Events for Phoenix Beach Volleyball
REFRESH-INTERVAL;VALUE=DURATION:PT1H
X-Robots-Tag:noindex
X-PUBLISHED-TTL:PT1H
BEGIN:VTIMEZONE
TZID:America/Phoenix
BEGIN:STANDARD
TZOFFSETFROM:-0700
TZOFFSETTO:-0700
TZNAME:MST
DTSTART:20240101T000000
END:STANDARD
END:VTIMEZONE
BEGIN:VEVENT
DTSTART;TZID=America/Phoenix:20250201T103000
DTEND;TZID=America/Phoenix:20250201T170000
DTSTAMP:20260424T074558
CREATED:20241028T191538Z
LAST-MODIFIED:20250116T163340Z
UID:10001628-1738405800-1738429200@phoenixbeachvb.com
SUMMARY:“Fast Twos” Doubles Tournament
DESCRIPTION:!!Fast Twos!!\n*No Partner Needed* \n  \nWhat is fast twos\, you ask? It is a fun variation of side out King Of The Court doubles that you’ve all most likely seen on the FIVB circuit! Everyone signs up as an individual and you play timed rounds of doubles with different partners almost every time you step on the sand! \nPlayers score (or lose) points if any of the following happens: \n\n“Side out” on the King/Queen side (both players get a point)\nServe a one touch or no touch Ace! (Server gets a point)\nBlocker gets a one touch or no touch block from the serve side. (Blocker gets a point)\nMiss 2 serves in a row loses a point for that player.\n\nPool play will consist of every player playing 2 timed rounds of fast twos with two different pools. After the two rounds of pool play\, players will be seeded in order of how they finished pool play and proceed into elimination rounds. The elimination rounds will be timed rounds based on how many players are in the pool and at the end of the round\, the bottom player/s will be eliminated from each group (eliminations based on how many players are signed up). Each round will have eliminations until we get to our final “Fast Twos” pool of the top 7 players\, which will be the championship round! We will crown our champion when the first player reaches 21 points!! \nThis format is very strenuous with a lot of volleyball being played with many different partners. Let’s see who can reign supreme! \n\nCheck in 1030AM\nPlay begins at 11AM\nPrizes for our top 4 players with ? taking home a brand new OPTX ball and AVP backpack with a full field!!\nOnly $25 per player payable via Venmo @phoenixbeachvb\, Zelle 480-249-2242 or cash
URL:https://phoenixbeachvb.com/event/fast-twos-doubles-tournament/2025-02-01/
LOCATION:RT O’Sullivan’s\, 7919 E Thomas Rd #101\, Scottsdale\, AZ\, 85251\, United States
END:VEVENT
BEGIN:VEVENT
DTSTART;TZID=America/Phoenix:20250202T103000
DTEND;TZID=America/Phoenix:20250202T170000
DTSTAMP:20260424T074558
CREATED:20240207T040817Z
LAST-MODIFIED:20250128T221847Z
UID:10001629-1738492200-1738515600@phoenixbeachvb.com
SUMMARY:Sunday King/Queen of the Beach Swingers Edition
DESCRIPTION:Let’s run a King and Queen of the Beach\, Swingers Edition! This format will allow us to give everyone a minimum of 6 full games to 21! \nLet’s gooooo! We’re going to give out some BIG prizes for this one! Everyone who makes the final court will walk away with a prize! Will it be the top prize of an AVP OPTX Ball AND Wilson AVP Backpack for the winning pair*?? Let’s find out! \nWe’re taking up to 16 pairs for this event! Join us for an exhilarating tournament where all pairs compete for the titles of King and Queen of Phoenix Beach. Each pair engages in a minimum of 6 games\, with finalists battling it out in a thrilling 9-game showdown. The stakes are high as the games unfold\, with only the top 4 pairs making it to the finals! Games are played to 21\, alternating between the men’s and ladies’ nets. Who will emerge victorious and claim the royal titles? Don’t miss the excitement on the court! \nCheck in – 1030AM\nPlay begins at 11AM\nCost – $70 per pair\n*Total prize pool with a full field- over $400!!!* \nFirst place – AVP OPTX Ball and Backpack \nSecond place – customized Phoenix Beach hoodie \nFinalists – Custom Phoenix Beach Tshirt or tank top \nHow to pay \nVenmo @phoenixbeachvb\nZelle 480-249-2242\nCash day of
URL:https://phoenixbeachvb.com/event/king-queen-of-the-beach/2025-02-02/
LOCATION:RT O’Sullivan’s\, 7919 E Thomas Rd #101\, Scottsdale\, AZ\, 85251\, United States
END:VEVENT
BEGIN:VEVENT
DTSTART;TZID=America/Phoenix:20250207T180000
DTEND;TZID=America/Phoenix:20250207T233000
DTSTAMP:20260424T074558
CREATED:20250124T225257Z
LAST-MODIFIED:20250624T183318Z
UID:10001634-1738951200-1738971000@phoenixbeachvb.com
SUMMARY:GIRL POWER Reverse Coed FND
DESCRIPTION:Girl Power\nGirls rule\, boys drool! This weeks Old School Friday Night Draw at RTOs is for the ladies to take charge!! Reverse coed rules! Gals\, you control the net! Guys\, you’ll be setting and playing defense for the ladies! \nWe are taking up to 32 players\, and the number of guys signed up has a max of 16 or equal to the number of girls signed up. Check in is at 6PM\, play begins at 630. *If we do not get enough girls\, we will run it as a normal FND* \nThe cost is $10 per player\, payable via\nVenmo (@phoenixbeachvb)\nZelle (480-249-2242) \nAll players/teams will get 3 pool play games followed by a double elimination bracket play tournament! That’s 5 games to 21! Pool play games are capped at 23\, bracket play games are no cap* \nPrizes for first with a full field! Winner take all! \nFirst Place – custom T or Tank \n 
URL:https://phoenixbeachvb.com/event/girl-power-reverse-coed-fnd-2/
LOCATION:RT O’Sullivan’s\, 7919 E Thomas Rd #101\, Scottsdale\, AZ\, 85251\, United States
END:VEVENT
BEGIN:VEVENT
DTSTART;TZID=America/Phoenix:20250208T100000
DTEND;TZID=America/Phoenix:20250208T170000
DTSTAMP:20260424T074558
CREATED:20250118T153447Z
LAST-MODIFIED:20260207T171412Z
UID:10001633-1739008800-1739034000@phoenixbeachvb.com
SUMMARY:“Super Bowl” Super Saturday Swingers
DESCRIPTION:Super Bowl Super Swingers\nIt’s Super Bowl weekend!! Let’s play some ball and see who the top pair is at Phoenix Beach! Sign up as a coed pair with your favorite teammate and battle against 15 other pairs to see who comes out with the “Lombardi Trophy”! All pairs will play at least 6 games with and against different teams! Every game will be half men’s/ladies net! After the first two rounds (3 games each round)\, the top 8 pairs will move on\, bottom 8 are eliminated! \nHere are the other important deets!! \n\nCost is $35 per player payable via Cash\, Venmo @phoenixbeachvb or Zelle 490-249-2242\nCheck in at 10AM\nPool Play begins at 1030AM\nPrizes with a full field will be AVP OPTX AND backpack for the 1st place pair. Custom Phoenix Beach Swag for 2nd place.\n\nIf you drop within 24 hours of the start of the tournament\, you are responsible to pay for your entry fees. Thank you.
URL:https://phoenixbeachvb.com/event/saturday-swingers-super-bowl-shuffle-edition/2025-02-08/
LOCATION:RT O’Sullivan’s\, 7919 E Thomas Rd #101\, Scottsdale\, AZ\, 85251\, United States
END:VEVENT
BEGIN:VEVENT
DTSTART;TZID=America/Phoenix:20250209T100000
DTEND;TZID=America/Phoenix:20250209T153000
DTSTAMP:20260424T074558
CREATED:20250206T200343Z
LAST-MODIFIED:20250206T200343Z
UID:10001635-1739095200-1739115000@phoenixbeachvb.com
SUMMARY:Super Sunday King and Queen of Phoenix Beach
DESCRIPTION:Here’s a cool new format for a fast and furious tournament! Sign up to play King or Queen of the beach\, finish by playing coed doubles to see who is the top pair! \nEach player gets 6 games of same sex doubles with 2 different pools. After 6 games\, the top 4 from each gender will form 4 coed pairs teams. These teams will play 3 more games\, 1 against each other pair to see who takes the top prize and title of the King and Queen of Phoenix Beach! \nCheck in 10AM\nPlay starts at 1030AM\nCost is $25 per person\, with an OPTX ball prize for the King and Queen! Prizes for second place based on the amount of sign ups. \nFormat may be changed based on registered players but the goal is to get 8 guys and 8 gals to participate! \nFinals should begin at approximately 2PM and be finished by 330PM! That gives you enough time to get home\, showered and to your Super Bowl party before kickoff!
URL:https://phoenixbeachvb.com/event/super-sunday-king-and-queen-of-phoenix-beach/
LOCATION:RT O’Sullivan’s\, 7919 E Thomas Rd #101\, Scottsdale\, AZ\, 85251\, United States
END:VEVENT
BEGIN:VEVENT
DTSTART;TZID=America/Phoenix:20250215T103000
DTEND;TZID=America/Phoenix:20250215T170000
DTSTAMP:20260424T074558
CREATED:20250211T173350Z
LAST-MODIFIED:20250211T173423Z
UID:10001637-1739615400-1739638800@phoenixbeachvb.com
SUMMARY:Men’s Triples
DESCRIPTION:Men’s Triples\nAre you ready for some high level Men’s 3s? Put your teams together for this fun tournament on the sand! Games will be played on doubles lines for some high octane offense\, long rallies\, and most definitely some amazing plays! \nCheck in is 1030AM\, play begins at 11! Each team will play 3 pool play games to 21\, cap at 23\, followed by a double elimination bracket. Bracket play will be games to 21\, with no cap! \nCost is $35 per player payable via Venmo @phoenixbeachvb \nHuge prizes for our top 2 teams! \nFirst Place – (OPTX ball or AVP Backpack) \nSecond Place – Custom swag \nwith a full field of 8 teams! \nYou can use TBD to save your spot if you don’t have confirmed teammates. Just update me via text or messenger once you confirm your squad. \nNo outside food or drink please! RTOs has a great food and drink menu!
URL:https://phoenixbeachvb.com/event/mens-triples/
LOCATION:RT O’Sullivan’s\, 7919 E Thomas Rd #101\, Scottsdale\, AZ\, 85251\, United States
END:VEVENT
BEGIN:VEVENT
DTSTART;TZID=America/Phoenix:20250221T180000
DTEND;TZID=America/Phoenix:20250221T180000
DTSTAMP:20260424T074558
CREATED:20250217T200126Z
LAST-MODIFIED:20250303T182149Z
UID:10001640-1740160800-1740160800@phoenixbeachvb.com
SUMMARY:Free Drink Fridays FND
DESCRIPTION:Free Drink Friday\nFree drink Friday is back! Everyone that plays gets a free drink at Phoenix Beach Friday Night Draw at RTO Sullivan’s! Temps are warming up\, so we can take up to 32 players for these events! Who can say no to a free drink and a fun filled volleyball tournament?! \nCheck in (player arrival) starts at 6PM\, and play begins at 630PM. This event is for all players C level and up! Requests to play together will be accommodated\, as long as it’s not an unfairly strong team. \nThe cost is $25 per player\, payable via the following options:\nVenmo (phoenixbeachvb)\nZelle (480-249-2242) \nAll players/teams will get 3 pool play games followed by a double elimination bracket play tournament! That’s 5 full games to 21! Pool play games are capped at 23\, bracket play games are no cap* \nPrizes for 1st and 2nd based on entries. 7+ teams means prizes for second place! \nIf you drop within 24 hours of the start of the event\, you will be expected to cover your entry fee. Thanks for understanding.
URL:https://phoenixbeachvb.com/event/free-drink-fridays-fnd/2025-02-21/
LOCATION:RT O’Sullivan’s\, 7919 E Thomas Rd #101\, Scottsdale\, AZ\, 85251\, United States
END:VEVENT
BEGIN:VEVENT
DTSTART;TZID=America/Phoenix:20250222T113000
DTEND;TZID=America/Phoenix:20250222T170000
DTSTAMP:20260424T074558
CREATED:20250220T193440Z
LAST-MODIFIED:20250220T194819Z
UID:10001706-1740223800-1740243600@phoenixbeachvb.com
SUMMARY:Innings Fest Saturday Coed Doubles Draw
DESCRIPTION:Innings Fest\nDoubles Draw\nCoed 2s Volleyball Tournament \nAcross the lake from Innings Festival! \nJoin us for a draw-style coed doubles tournament right across the water from Innings Festival at Tempe Town Lake! \nLocation: Tempe Town Lake (north shore) \nCheck-in: 11:30 AM \nPlay begins: 12:00 Noon \nCost: $40 \nGet your volleyball fix and enjoy the sounds of the Innings Festival! Just sign up individually and we will match you up with your partners for an epic day of competition. \nSign up now and lets play! Food and beverages will be provided! Maybe even some adult beverages?!? \nWinners will get an OPTX ball!
URL:https://phoenixbeachvb.com/event/innings-fest-saturday-coed-draw/
END:VEVENT
BEGIN:VEVENT
DTSTART;TZID=America/Phoenix:20250228T180000
DTEND;TZID=America/Phoenix:20250228T180000
DTSTAMP:20260424T074558
CREATED:20250217T200126Z
LAST-MODIFIED:20250303T182149Z
UID:10001711-1740765600-1740765600@phoenixbeachvb.com
SUMMARY:Free Drink Fridays FND
DESCRIPTION:Free Drink Friday\nFree drink Friday is back! Everyone that plays gets a free drink at Phoenix Beach Friday Night Draw at RTO Sullivan’s! Temps are warming up\, so we can take up to 32 players for these events! Who can say no to a free drink and a fun filled volleyball tournament?! \nCheck in (player arrival) starts at 6PM\, and play begins at 630PM. This event is for all players C level and up! Requests to play together will be accommodated\, as long as it’s not an unfairly strong team. \nThe cost is $25 per player\, payable via the following options:\nVenmo (phoenixbeachvb)\nZelle (480-249-2242) \nAll players/teams will get 3 pool play games followed by a double elimination bracket play tournament! That’s 5 full games to 21! Pool play games are capped at 23\, bracket play games are no cap* \nPrizes for 1st and 2nd based on entries. 7+ teams means prizes for second place! \nIf you drop within 24 hours of the start of the event\, you will be expected to cover your entry fee. Thanks for understanding.
URL:https://phoenixbeachvb.com/event/free-drink-fridays-fnd/2025-02-28/
LOCATION:RT O’Sullivan’s\, 7919 E Thomas Rd #101\, Scottsdale\, AZ\, 85251\, United States
END:VEVENT
END:VCALENDAR