BEGIN:VCALENDAR
VERSION:2.0
PRODID:-//Phoenix Beach Volleyball - ECPv6.15.20//NONSGML v1.0//EN
CALSCALE:GREGORIAN
METHOD:PUBLISH
X-WR-CALNAME:Phoenix Beach Volleyball
X-ORIGINAL-URL:https://phoenixbeachvb.com
X-WR-CALDESC:Events for Phoenix Beach Volleyball
REFRESH-INTERVAL;VALUE=DURATION:PT1H
X-Robots-Tag:noindex
X-PUBLISHED-TTL:PT1H
BEGIN:VTIMEZONE
TZID:America/Phoenix
BEGIN:STANDARD
TZOFFSETFROM:-0700
TZOFFSETTO:-0700
TZNAME:MST
DTSTART:20240101T000000
END:STANDARD
END:VTIMEZONE
BEGIN:VEVENT
DTSTART;TZID=America/Phoenix:20250404T180000
DTEND;TZID=America/Phoenix:20250404T180000
DTSTAMP:20260424T030749
CREATED:20250217T200126Z
LAST-MODIFIED:20250303T182149Z
UID:10001683-1743789600-1743789600@phoenixbeachvb.com
SUMMARY:Free Drink Fridays FND
DESCRIPTION:Free Drink Friday\nFree drink Friday is back! Everyone that plays gets a free drink at Phoenix Beach Friday Night Draw at RTO Sullivan’s! Temps are warming up\, so we can take up to 32 players for these events! Who can say no to a free drink and a fun filled volleyball tournament?! \nCheck in (player arrival) starts at 6PM\, and play begins at 630PM. This event is for all players C level and up! Requests to play together will be accommodated\, as long as it’s not an unfairly strong team. \nThe cost is $25 per player\, payable via the following options:\nVenmo (phoenixbeachvb)\nZelle (480-249-2242) \nAll players/teams will get 3 pool play games followed by a double elimination bracket play tournament! That’s 5 full games to 21! Pool play games are capped at 23\, bracket play games are no cap* \nPrizes for 1st and 2nd based on entries. 7+ teams means prizes for second place! \nIf you drop within 24 hours of the start of the event\, you will be expected to cover your entry fee. Thanks for understanding.
URL:https://phoenixbeachvb.com/event/free-drink-fridays-fnd/2025-04-04/
LOCATION:RT O’Sullivan’s\, 7919 E Thomas Rd #101\, Scottsdale\, AZ\, 85251\, United States
END:VEVENT
BEGIN:VEVENT
DTSTART;TZID=America/Phoenix:20250405T103000
DTEND;TZID=America/Phoenix:20250405T170000
DTSTAMP:20260424T030749
CREATED:20250321T175423Z
LAST-MODIFIED:20250329T183254Z
UID:10001720-1743849000-1743872400@phoenixbeachvb.com
SUMMARY:Saturday Traditional Swingers Tournament
DESCRIPTION:!!Saturday Swingers!!\nA rare Saturday Swingers is going down! We’re going to have some pretty awesome temps for some volleyball\, so let’s get out and enjoy it! Phoenix Beach will be hosting an awesome Traditional Swingers tournament at RTOs! \nWe are taking up to 16 pairs\, first come first serve. Sign up by clicking the registration link in comments\, or commenting in the event!! Check in is at 10\, play begins at 1030AM. 6 full games to 21 are guaranteed!! \nphoenixbeachvb.com to sign up for all events! \nThe cost is only $35 per player\, with prizes for first (OPTX ball or AVP Backpack) and second place (custom Phoenix Beach hoodie) based on tournament sign ups. Tournament fees are payable via the following options:\nVenmo (phoenixbeachvb)\nCashApp ($phoenixbeachvb)\nZelle (480-249-2242) \nPlease ensure you are paid in full prior to tournament starting. Thank you. If you cancel within 24 hours you will be expected to pay your entry fee. Thanks for understanding
URL:https://phoenixbeachvb.com/event/saturday-traditional/
LOCATION:RT O’Sullivan’s\, 7919 E Thomas Rd #101\, Scottsdale\, AZ\, 85251\, United States
END:VEVENT
BEGIN:VEVENT
DTSTART;TZID=America/Phoenix:20250419T093000
DTEND;TZID=America/Phoenix:20250419T170000
DTSTAMP:20260424T030749
CREATED:20250323T002712Z
LAST-MODIFIED:20250323T002832Z
UID:10001724-1745055000-1745082000@phoenixbeachvb.com
SUMMARY:Liz and Lanae’s “Fast Twos” Birthday Tournament
DESCRIPTION:HAPPY BIRTHDAY LIZ AND LANAE!!\nIt’s time for some birthday\n!!Fast Twos!!\nNo Partner Needed\, just come to party with these two lovely ladies celebrate another year of blessing our lives! \nWhat is fast twos\, you ask? It is a fun variation of side out King Of The Court doubles that you’ve all most likely seen on the FIVB circuit! Also\, it’s Liz Eddys favorite favorite format of volleyball! And we all know Lanae loves her some doubles!! \nEveryone signs up as an individual and you play timed rounds of doubles with different partners almost every time you step on the sand! Reloads allowed on missed serves during pool play! \nPlayers score (or lose) points if any of the following happens: \n\n“Side out” on the King/Queen side (both players get a point)\nServe a one touch or no touch Ace! (Server gets a point)\nBlocker gets a one touch or no touch block from the serve side. (Blocker gets a point)\nMiss 2 serves in a row loses a point for that player.\nANY missed serve in the last 3 minutes of a round\, K/Q side gets a point!!!\n\nPool play will consist of every player playing 2 timed rounds of fast twos with two different pools. After the two rounds of pool play\, players will be seeded in order of how they finished pool play and proceed into elimination rounds. The elimination rounds will be timed rounds based on how many players are in the pool and at the end of the round\, the bottom player/s will be eliminated from each group (eliminations based on how many players are signed up). Each round will have eliminations until we get to our final “Fast Twos” pool of the top 7 players\, which will be the championship round! We will crown our champion when the first player reaches 21 points!! \nThis format is very strenuous with a lot of volleyball being played with many different partners. Let’s see who can reign supreme! \n\nCheck in 930AM (earlier start because Lanae didn’t request work off 🙄)\nPlay begins at 10AM\nPrizes for our top 7 players with our top player  taking home a brand new OPTX ball and AVP backpack with a full field!! Second place will get their choice of an OPTX ball or backpack\, 3rd place will win a custom Phoenix Beach Hoodie. 4-7th will win Phoenix Beach tees or tanks!\n$34 per player payable via Venmo @phoenixbeachvb\, Zelle 480-249-2242 or cash. Why $34\, well Liz is turning 33 and Lanae is turning 35! So we’re meeting in the middle.
URL:https://phoenixbeachvb.com/event/liz-and-lanaes-fast-twos-birthday-tournament/2025-04-19/
LOCATION:RT O’Sullivan’s\, 7919 E Thomas Rd #101\, Scottsdale\, AZ\, 85251\, United States
END:VEVENT
BEGIN:VEVENT
DTSTART;TZID=America/Phoenix:20250425T180000
DTEND;TZID=America/Phoenix:20250425T180000
DTSTAMP:20260424T030749
CREATED:20210717T002134Z
LAST-MODIFIED:20250424T135050Z
UID:10000635-1745604000-1745604000@phoenixbeachvb.com
SUMMARY:Ahmad Hamids Birthday Friday Night Swingers
DESCRIPTION:Birthday Time!!\nWell\, we got rained out last Friday\, so Phoenix Beach will be re-hosting Ahmad Hamid’s Friday Night Birthday Coed Swingers at RTOs!! Come on out and help the bday boy celebrate turning the big 2-1! We are taking up to 16 coed pairs\, and as always\, the guest of honor will be in charge of who gets in. \nCheck in is at 6pm\, play begins at 630. 5 full games to 21 are guaranteed\, and all games will be played on both men’s and ladies nets! \nThe cost is only $35 per player if you didn’t play last week. If you did play\, your entry fee is reduced to $0!! We will have prizes for first and second place based on sign ups. Tournament fees are payable via the following options:\nVenmo (phoenixbeachvb)\nZelle (480-249-2242) \nPlease ensure you are paid in full prior to tournament starting. Thank you.
URL:https://phoenixbeachvb.com/event/ahmad-hamids-birthday-swingers/
LOCATION:RT O’Sullivan’s\, 7919 E Thomas Rd #101\, Scottsdale\, AZ\, 85251\, United States
END:VEVENT
BEGIN:VEVENT
DTSTART;TZID=America/Phoenix:20250427T100000
DTEND;TZID=America/Phoenix:20250427T170000
DTSTAMP:20260424T030749
CREATED:20250411T205930Z
LAST-MODIFIED:20250411T205930Z
UID:10001727-1745748000-1745773200@phoenixbeachvb.com
SUMMARY:Team Phoenix ATX Cities Challenge BFF Swingers Edition
DESCRIPTION:🏐 Support Team Phoenix Beach at the ATX Beach Cities Tournament! 🏐\nWe are super excited to announce that Phoenix Beach will be sponsoring our Phoenix squad at the ATX Cities event in Austin! \nJoin us for our THIRD fundraising tournament\, so far we have raised $760! This event will be a BFF format Sunday Swingers! Sign up with your same sex BFF for a high-energy\, good times volleyball tournament to help send Team Phoenix to Austin this May! We’re rallying the community to support our squads as they compete against top teams from across the U.S.! We are sending 5 men’s & 5 women’s teams to Austin where they will be playing teams from different cities in a college style format! \n📍 When & Where: \n🗓 Sunday April 27th @ RTO Sullivans in Scottsdale | \n⏰ Check-in: 10 AM | First Serve: 10:30 AM \n💲 $40 per player ($80 per pair) \n🏆 Top 2 teams win awesome prizes! Full field winners score AVP OPTX Volleyballs or Backpacks! \nLet’s make this event a huge success—come play\, cheer\, and support Team Phoenix on their road to ATX! 🔥🏐 \nWho’s in? Drop your name below or DM to sign up! \n\nPlease ensure you are paid in full prior to tournament starting. Thank you. If you cancel within 24 hours you will be expected to pay your entry fee. Thanks for understanding
URL:https://phoenixbeachvb.com/event/team-phoenix-atx-cities-challenge-bff-swingers-edition/2025-04-27/
LOCATION:RT O’Sullivan’s\, 7919 E Thomas Rd #101\, Scottsdale\, AZ\, 85251\, United States
END:VEVENT
END:VCALENDAR