BEGIN:VCALENDAR
VERSION:2.0
PRODID:-//Phoenix Beach Volleyball - ECPv6.15.20//NONSGML v1.0//EN
CALSCALE:GREGORIAN
METHOD:PUBLISH
X-WR-CALNAME:Phoenix Beach Volleyball
X-ORIGINAL-URL:https://phoenixbeachvb.com
X-WR-CALDESC:Events for Phoenix Beach Volleyball
REFRESH-INTERVAL;VALUE=DURATION:PT1H
X-Robots-Tag:noindex
X-PUBLISHED-TTL:PT1H
BEGIN:VTIMEZONE
TZID:America/Phoenix
BEGIN:STANDARD
TZOFFSETFROM:-0700
TZOFFSETTO:-0700
TZNAME:MST
DTSTART:20240101T000000
END:STANDARD
END:VTIMEZONE
BEGIN:VEVENT
DTSTART;TZID=America/Phoenix:20250503T163000
DTEND;TZID=America/Phoenix:20250503T233000
DTSTAMP:20260424T000745
CREATED:20250312T040808Z
LAST-MODIFIED:20250417T215415Z
UID:10001718-1746289800-1746315000@phoenixbeachvb.com
SUMMARY:VLA Vanguard Fundraiser (beach supporting hardcourt!)
DESCRIPTION:🏐 Support VLA Vanguard this season in their inaugural season! 🏐\nWe are super excited to announce that Phoenix Beach will be sponsoring an PRO INDOOR TEAM\, VLA VANGUARD! That’s right\, we are a beach company representing an awesome indoor team. We’ve had the pleasure of having a few of their players in our Monday night A league and these guys can ball! This is their first season playing in the pro indoor volleyball league\, VLA. They are an up and coming team in the making\, playing against some top tier teams around the nation! \nJoin us for our first fundraising event! And it will be a fun one. This event will be an indoor style 6s tournament on the beach!! Each team needs 2 females minimum. The rules will be mostly indoor rules with rotations\, setting and attacking rules! It’s definitely going to be an awesome time! \n📍 When & Where: \n🗓 Saturday May 3rd @ RTO Sullivans in Scottsdale | \n⏰ Check-in: 430PM | First Serve: 5PM \n💲 $25 per player ($150 per team) \n3 Pool play games followed by a double elimination bracket. \n🏆 Top 2 teams win awesome prizes!! \nLet’s make this event a huge success—come play\, cheer\, and support Team Vanguard on their first season in VLA! 🔥🏐 \nWhen you sign up\, please notate if you’re a free agent or signing up with a team!\n\nPlease ensure you are paid in full prior to tournament starting. Thank you. If you cancel within 24 hours you will be expected to pay your entry fee. Thanks for understanding
URL:https://phoenixbeachvb.com/event/vla-vanguard-fundraiser-beach-supporting-hardcourt/
LOCATION:RT O’Sullivan’s\, 7919 E Thomas Rd #101\, Scottsdale\, AZ\, 85251\, United States
END:VEVENT
BEGIN:VEVENT
DTSTART;TZID=America/Phoenix:20250504T100000
DTEND;TZID=America/Phoenix:20250504T170000
DTSTAMP:20260424T000745
CREATED:20250428T212330Z
LAST-MODIFIED:20250428T212331Z
UID:10001729-1746352800-1746378000@phoenixbeachvb.com
SUMMARY:Thank you for supporting Team PHOENIX Sunday Traditional Swingers
DESCRIPTION:!!Sunday Swingers!!\nAs a thank you to everyone who supported our recent fundraiser activities for our Team PHOENIX ATX Cities tournaments\, this Sunday Swingers event\, all players who played in the ATX fundraisers will get a discount on the entry fee based on how many of the 3 events they played in!! *This event is open to everyone\, just giving a little discount to the supporters!* Also\, We’re going to have some pretty awesome temps for some volleyball (high of 70 👀)\, so let’s get out and enjoy it! It might be the last of the good weather before summer hits! \nIf you played in any of the ATX fundraisers\, your entry fee will be the following \n\n1/3 ATX events ($30)\n2/3 ATX events ($25)\n3/3 ATX events ($20)\n\nWe are taking up to 16 pairs\, first come first serve. Sign up by clicking the registration link in comments\, or commenting in the event!! Check in is at 10\, play begins at 1030AM. 6 full games to 21 are guaranteed!! \nphoenixbeachvb.com to sign up for all events! \nThe cost is only $35 per player (unless you qualify for the discount)\, with prizes for first (OPTX ball or AVP Backpack) and second place (custom Phoenix Beach hoodie) based on tournament sign ups. Tournament fees are payable via the following options: \nVenmo (phoenixbeachvb)\nZelle (480-249-2242) \nPlease ensure you are paid in full prior to tournament starting. Thank you. If you cancel within 24 hours you will be expected to pay your entry fee. Thanks for understanding
URL:https://phoenixbeachvb.com/event/sunday-swingers-draw-3-2-3/
LOCATION:RT O’Sullivan’s\, 7919 E Thomas Rd #101\, Scottsdale\, AZ\, 85251\, United States
END:VEVENT
BEGIN:VEVENT
DTSTART;TZID=America/Phoenix:20250509T190000
DTEND;TZID=America/Phoenix:20250509T190000
DTSTAMP:20260424T000745
CREATED:20250502T040111Z
LAST-MODIFIED:20250509T155016Z
UID:10001730-1746817200-1746817200@phoenixbeachvb.com
SUMMARY:Jeremy’s His and Hers BYOT FND!
DESCRIPTION:Jeremy Doski is in town and he wants to play volleyball! It’s one of his favorite formats so we’re going to make it happen! He already has his team locked in so don’t try to recruit him… you can only try to beat him! \nBYOT His/Hers Net Volleyball Tournament \nDate: Friday May 9th \nCheck-in: 7PM Play Begins: 7:30 PM \nGrab your squad and get ready for a unique twist on coed volleyball on a fun Friday night! \nEach team must bring their own roster: 2 guys + 2 girls. \nFormat: \n\nPool Play: 3 games guaranteed\n\nEach game played half on a men’s net and half on a ladies net\nSwitch sides and net height at 11 points!\n\n\n\nGames to 21 (no cap)\nAll teams advance to a double elimination bracket!\nEntry fee is $120 per team (8 team Max)\n\nBring the energy\, adapt to the changing nets\, and battle your way to the top! \nDon’t miss this one-of-a-kind BYOT tournament! \nPrize options for first and second place with a full field!
URL:https://phoenixbeachvb.com/event/jeremys-his-and-hers-byot-fnd/
LOCATION:RT O’Sullivan’s\, 7919 E Thomas Rd #101\, Scottsdale\, AZ\, 85251\, United States
END:VEVENT
BEGIN:VEVENT
DTSTART;TZID=America/Phoenix:20250516T180000
DTEND;TZID=America/Phoenix:20250516T180000
DTSTAMP:20260424T000745
CREATED:20210717T002134Z
LAST-MODIFIED:20250527T220017Z
UID:10000497-1747418400-1747418400@phoenixbeachvb.com
SUMMARY:Phoenix Beach “Early Bird” Coed Friday Night Draw
DESCRIPTION:Early Bird FND\nPhoenix Beach will be hosting Friday Night Coed Draws at RTOs!! We are taking up to 32 players\, first come first serve. Early bird signups will save $5 off of their entry fee by signing up before 5pm on Wednesday! Check in is at 6pm\, play begins at 630. 6 full games to 21 are guaranteed!! \nThe cost is ONLY $25 per player ($20 if you sign up early!) \, with prizes for first and second place based on tournament sign ups. Tournament fees are payable via the following options: \nVenmo (phoenixbeachvb)\nZelle (480-249-2242) \nPlease ensure you are paid in full prior to tournament starting. Thank you. \nPrize pool for first and second place with a full field!!
URL:https://phoenixbeachvb.com/event/friday-night-draw-2021-08-13-2021-08-27-2021-10-01-2021-12-10-2022-05-06/
LOCATION:RT O’Sullivan’s\, 7919 E Thomas Rd #101\, Scottsdale\, AZ\, 85251\, United States
END:VEVENT
BEGIN:VEVENT
DTSTART;TZID=America/Phoenix:20250523T180000
DTEND;TZID=America/Phoenix:20250523T180000
DTSTAMP:20260424T000745
CREATED:20250116T210702Z
LAST-MODIFIED:20250515T193833Z
UID:10001734-1748023200-1748023200@phoenixbeachvb.com
SUMMARY:GIRL POWER Reverse Coed FND
DESCRIPTION:Girl Power\nGirls rule\, boys drool! This weeks Friday Night Draw at RTOs is for the ladies to take charge!! Reverse coed rules! Gals\, you control the net! Guys\, you’ll be setting and playing defense for the ladies! \nEarly bird special applies for this tournament as well! Sign up by Wednesday at 5pm to get in for only $20!! \nWe are taking up to 32 players\, and the number of guys signed up has a max of 16 or equal to the number of girls signed up. Check in is at 6PM\, play begins at 630. *If we do not get enough girls\, we will run it as a normal FND* \nThe cost is $25 per player\, unless you’re an early bird\, then it’s $20! Entry fees payable via \nVenmo (@phoenixbeachvb) \nZelle (480-249-2242) \nCash \nAll players/teams will get 3 pool play games followed by a double elimination bracket play tournament! That’s 5 games to 21! Pool play games are capped at 23\, bracket play games are no cap* \nPrizes for first and second place with a full field! \n 
URL:https://phoenixbeachvb.com/event/girl-power-reverse-coed-fnd/2025-05-23/
LOCATION:RT O’Sullivan’s\, 7919 E Thomas Rd #101\, Scottsdale\, AZ\, 85251\, United States
END:VEVENT
BEGIN:VEVENT
DTSTART;TZID=America/Phoenix:20250524T100000
DTEND;TZID=America/Phoenix:20250524T170000
DTSTAMP:20260424T000745
CREATED:20220315T175422Z
LAST-MODIFIED:20250508T195749Z
UID:10001735-1748080800-1748106000@phoenixbeachvb.com
SUMMARY:Phoenix Beach Men’s Doubles
DESCRIPTION:Phoenix Beach is getting back into some DUBS! Coed Doubles tournament\, A/B level Men’s 2s! \nWe will be taking the first 8 pairs before we start the wait list. \n\nCheck in 10AM\nPlay at 1030\n3 pool play games to 21\, switch sides every 7 points\nDouble elimination bracket play\n\nCost is $60 per team Payable via the following \nVenmo – @phoenixbeachvb \nZelle – 480-249-2242 \nCash day of \nWith a full field of 8 pairs\, we will have the following prizes \n\nFirst place – AVP OPTX Volleyball (or) backpack\nSecond place – Custom Phoenix Beach L/S hooded shirt\n\n*If you drop within 24 hours of the tournament\, you will be expected to cover your entry fee*
URL:https://phoenixbeachvb.com/event/mens-doubles/2025-05-24/
LOCATION:RT O’Sullivan’s\, 7919 E Thomas Rd #101\, Scottsdale\, AZ\, 85251\, United States
END:VEVENT
BEGIN:VEVENT
DTSTART;TZID=America/Phoenix:20250524T100000
DTEND;TZID=America/Phoenix:20250524T170000
DTSTAMP:20260424T000745
CREATED:20250929T020246Z
LAST-MODIFIED:20251001T183243Z
UID:10001775-1748080800-1748106000@phoenixbeachvb.com
SUMMARY:Phoenix Beach Men’s Doubles
DESCRIPTION:Phoenix Beach is getting back into some DUBS! Coed Doubles tournament\, A/B level Men’s 2s! \nWe will be taking the first 8 pairs before we start the wait list. \n\nCheck in 10AM\nPlay at 1030\n3 pool play games to 21\, switch sides every 7 points\nDouble elimination bracket play\n\nCost is $60 per team Payable via the following \nVenmo – @phoenixbeachvb \nZelle – 480-249-2242 \nCash day of \nWith a full field of 8 pairs\, we will have the following prizes** \n\nFirst place – AVP OPTX Volleyball (or) backpack (or) Phoenix Beach Slunks\nSecond place – Custom Phoenix Beach L/S hooded shirt\n\n*If you drop within 24 hours of the tournament\, you will be expected to cover your entry fee* \n  \n**Prized adjusted based on teams signed up.
URL:https://phoenixbeachvb.com/event/phoenix-beach-mens-doubles/2025-05-24/
LOCATION:RT O’Sullivan’s\, 7919 E Thomas Rd #101\, Scottsdale\, AZ\, 85251\, United States
END:VEVENT
BEGIN:VEVENT
DTSTART;TZID=America/Phoenix:20250525T140000
DTEND;TZID=America/Phoenix:20250525T230000
DTSTAMP:20260424T000745
CREATED:20250508T072840Z
LAST-MODIFIED:20250525T051341Z
UID:10001731-1748181600-1748214000@phoenixbeachvb.com
SUMMARY:J-Rod and Nate the Great’s Bday Bash
DESCRIPTION:BIRTHDAY BASH for J-rod & Nate the Great! \nWe’re throwing down a shuffle draw to celebrate the legends themselves! \n40 players only – 20 guys\, 20 girls \n$40/player | Check-in at now at 2pm | May 25th \nVenmo @phoenixbeachvb \nEach player gets 3 pool play games with 3 random teams to determine their bracket partner! \nTop guy + top girl team up… \nEXCEPT the birthday boys – they get to pick their partner AND stay together all tournament long! \nPRIZES for 1st\, 2nd & 3rd! \n1st place will win the NEW custom 2025 Phoenix Beach Slunks! \nSpots are limited\, so don’t wait—grab yours now and help us celebrate Big J and Nate the Great! \n*All spots are reserved for their guest list\, so if you are moved to the waiting list\, please understand that is why!*
URL:https://phoenixbeachvb.com/event/j-rod-and-nate-the-greats-bday-bash/
LOCATION:RT O’Sullivan’s\, 7919 E Thomas Rd #101\, Scottsdale\, AZ\, 85251\, United States
END:VEVENT
BEGIN:VEVENT
DTSTART;TZID=America/Phoenix:20250531T163000
DTEND;TZID=America/Phoenix:20250531T230000
DTSTAMP:20260424T000745
CREATED:20220502T181053Z
LAST-MODIFIED:20250428T220708Z
UID:10000505-1748709000-1748732400@phoenixbeachvb.com
SUMMARY:Coed Doubles Draw - Swingers Edition!!
DESCRIPTION:Who will be the top team in a coed doubles swingers style tournament?? We are going to host a tournament to find out! \nAll players sign up individually and you will be randomly paired up with players of the opposite gender. Everyone is guaranteed 5 games\, and pool play will consist of 3 games with 3 different partners\, and all games will be played on both men’s and ladies net. Game 1 will be a ladies net\, game 2 on a men’s net\, and game 3 will be half men’s net and half ladies net. We will then have a double elimination bracket play and your partner to start bracket play is based on your record from pool play. All bracket play games will be half and half\, with the higher seed choosing what format they want to start on! If you win\, you keep your partner\, and if you lose\, you will get a new partner to swing with! \n\nCheck in at 4:30PM\nPlay beginning at 5PM\n$35 entry fee\n\nEntry fees payable via the following options: \nVenmo @phoenixbeachvb\nCashapp $phoenixbeachvb\nZelle 480-249-2242
URL:https://phoenixbeachvb.com/event/coed-doubles-swingers/
LOCATION:RT O’Sullivan’s\, 7919 E Thomas Rd #101\, Scottsdale\, AZ\, 85251\, United States
END:VEVENT
END:VCALENDAR