BEGIN:VCALENDAR
VERSION:2.0
PRODID:-//Phoenix Beach Volleyball - ECPv6.15.20//NONSGML v1.0//EN
CALSCALE:GREGORIAN
METHOD:PUBLISH
X-WR-CALNAME:Phoenix Beach Volleyball
X-ORIGINAL-URL:https://phoenixbeachvb.com
X-WR-CALDESC:Events for Phoenix Beach Volleyball
REFRESH-INTERVAL;VALUE=DURATION:PT1H
X-Robots-Tag:noindex
X-PUBLISHED-TTL:PT1H
BEGIN:VTIMEZONE
TZID:America/Phoenix
BEGIN:STANDARD
TZOFFSETFROM:-0700
TZOFFSETTO:-0700
TZNAME:MST
DTSTART:20240101T000000
END:STANDARD
END:VTIMEZONE
BEGIN:VEVENT
DTSTART;TZID=America/Phoenix:20250801T180000
DTEND;TZID=America/Phoenix:20250801T180000
DTSTAMP:20260423T194034
CREATED:20210717T002134Z
LAST-MODIFIED:20250729T214729Z
UID:10001760-1754071200-1754071200@phoenixbeachvb.com
SUMMARY:Hannifests Bday aaaand August Birthdays Coed FND
DESCRIPTION:August Birthdays\, you’re lucky Hannah is a sharing girl. She wants to share her birthday with all of you as well! So this one is also for you! But also our main guest of honor is Hannifest Murphy! \nIf you have an August birthday\, you will get $10 off of your entry fee\, plus the opportunity pick some of your teammates! (When you register\, put Bday next to your name!) \nIt will be a 50/50 net format\, so let’s make sure we have equal sign ups of men’s and ladies! \nWe can take up to 32 players (16 guys and 16 girls) for this event. Check in (player arrival) is at 6PM\, and play begins at 630PM. This event is for all players C level and up! \nThe entry fee for everyone else is only $25 per player\, payable via the following options: \nCash\nVenmo (phoenixbeachvb)\nZelle (480-249-2242) \nAll players/teams will get 3 pool play games followed by a double elimination bracket play tournament! That’s 5 games to 21! Pool play games are capped at 23\, bracket play games are no cap* \nPrizes for 1st and 2nd with a full field of 32 players!
URL:https://phoenixbeachvb.com/event/august-birthdays-friday-night-draw/2025-08-01/
LOCATION:RT O’Sullivan’s\, 7919 E Thomas Rd #101\, Scottsdale\, AZ\, 85251\, United States
END:VEVENT
BEGIN:VEVENT
DTSTART;TZID=America/Phoenix:20250808T170000
DTEND;TZID=America/Phoenix:20250808T170000
DTSTAMP:20260423T194034
CREATED:20250721T035023Z
LAST-MODIFIED:20250721T035023Z
UID:10001756-1754672400-1754672400@phoenixbeachvb.com
SUMMARY:Izzy’s Birthday Shuffle Bash!!
DESCRIPTION:🎉 IZZY’S BIRTHDAY BASH! 🎉 \nNot only does she win everyone else’s birthday draws… and most any other tournament\, now she wants to win her own! 👑 \nCome help us celebrate Izzy as she takes her shot at defending her crown on her special day! \n🏐 DETAILS: \n— 40 players | 20 guys & 20 girls \n— Friday\, August 8th \n— Check-in at 5:00 PM\, play starts shortly after \n— Entry: $40/player \n— Shuffle Draw — you’ll play with and against different teammates each round \n⚡️ FORMAT: \n— 4 pool play games with 4 different formats of games! \n— Bracket play based on your pool play results \nSpots will go fast (and most are reserved \, so if you get moved to the wait list\, it’s just to make room for her closest friends) — so grab yours before they’re gone. Let’s see if she can win her own birthday bash! 🏆
URL:https://phoenixbeachvb.com/event/izzys-birthday-shuffle-bash/
LOCATION:RT O’Sullivan’s\, 7919 E Thomas Rd #101\, Scottsdale\, AZ\, 85251\, United States
END:VEVENT
BEGIN:VEVENT
DTSTART;TZID=America/Phoenix:20250809T180000
DTEND;TZID=America/Phoenix:20250809T180000
DTSTAMP:20260423T194034
CREATED:20250714T224830Z
LAST-MODIFIED:20250809T222829Z
UID:10001754-1754762400-1754762400@phoenixbeachvb.com
SUMMARY:Sarah’s “Slunks and Slutty Crop Tops” Birthday Shuffle
DESCRIPTION:🌴🏐 Sarah’s Birthday Bash: Slunks & Slutty lil Crop Tops Edition! 🏐🌴 \nWe’re throwing down for Sarah’s birthday with a wild night of volleyball\, good vibes\, and the spiciest outfits you can pull together. Grab your slunks and your sluttiest crop top\, and let’s make this a birthday to remember! \n📅 Date: Saturday\, August 9th \n🕔 Check-in: Now at 6:00 PM!! \n🕠 Play Begins: 5:30 PM \n📍 RTO Sullivans in Scottsdale \n✨ Theme: \n🔥 SLUNKS & SLUTTY CROP TOPS \nBreak out your slunks\, and your boldest (and least modest) crop top. Let’s make this birthday as hot and hilarious as Sarah deserves. \n✨ Format: \n\nShuffle Draw — meet new teammates every game!\nPlayed on both men’s and ladies’ nets\, so we need equal signups of guys & girls — sign up early to secure your spot!\nEveryone plays 4 pool play games to 18 (hard cap) with random partners.\nAfter pool play\, scores are tallied and teams are set for a double elimination bracket.\n\n🎈 This is Sarah’s day — so bring the energy\, bring the outfits\, and help make it unforgettable. \nEntry fee is $40 \n📲 Venmo @phoenixbeachvb or Zelle 480-249-2242 \nSpots are limited and we need an even split of guys & girls — so don’t wait to lock in your spot! \nWinners get their own SLUNKS and maybe a slutty top to go with it!
URL:https://phoenixbeachvb.com/event/sarahs-slunks-and-slutty-tops-birthday-shuffle/
LOCATION:RT O’Sullivan’s\, 7919 E Thomas Rd #101\, Scottsdale\, AZ\, 85251\, United States
END:VEVENT
BEGIN:VEVENT
DTSTART;TZID=America/Phoenix:20250815T180000
DTEND;TZID=America/Phoenix:20250815T180000
DTSTAMP:20260423T194034
CREATED:20250721T033444Z
LAST-MODIFIED:20250721T033444Z
UID:10001755-1755280800-1755280800@phoenixbeachvb.com
SUMMARY:Unc Tyrese Hawaiian Bday Draw
DESCRIPTION:🌺 ALOHA & HAPPY BIRTHDAY\, UNC TYRESE! 🌺 \nWe’re throwing a Hawaiian-themed birthday bash to celebrate the legend himself — Unc Tyrese — and you’re invited to come play\, party\, and show off your best island vibes! 🌴🍍🌊 \n🏐 DETAILS: \n— 32 players | 16 guys & 16 girls \n— Friday\, August 15th \n— Check-in at 6:00 PM\, play starts shortly after \n— Hawaiian attire highly encouraged — let’s see those leis\, floral shirts\, and grass skirts! 🌺 \n🎮 FORMAT: \n— 3 pool play games \n— 3 different formats to keep things spicy \n— Teams for bracket play based on your pool play results \nSpots are limited\, so lock yours in before they’re gone. \nLet’s make sure Uncle Tyrese feels the birthday aloha! 🥳🏖️ \nVenmo $40 to @phoenixbeachvb or Zelle 480-249-2242
URL:https://phoenixbeachvb.com/event/unc-tyrese-hawaiian-bday-draw/
LOCATION:RT O’Sullivan’s\, 7919 E Thomas Rd #101\, Scottsdale\, AZ\, 85251\, United States
END:VEVENT
BEGIN:VEVENT
DTSTART;TZID=America/Phoenix:20250816T170000
DTEND;TZID=America/Phoenix:20250816T170000
DTSTAMP:20260423T194034
CREATED:20250714T222049Z
LAST-MODIFIED:20250816T185906Z
UID:10001753-1755363600-1755363600@phoenixbeachvb.com
SUMMARY:Lukas Floyd’s “All the colors” BDay Bash
DESCRIPTION:🎉🏐 The Always Colorful Lukas Floyd’s Birthday Bash! 🏐🎉 \nWe’re celebrating the legend himself — Lukas Floyd — in true colorful and chaotic fashion\, with an evening of volleyball\, wild outfits\, and plenty of laughs! \n📅 Date: Saturday\, August 16th \n🕔 Check-in: 5:00 PM \n🕠 Play Begins: 5:30 PM \n📍 RTO Sullivans in Scottsdale \n✨ Theme: \n🎨 DRESS LIKE LUKAS!\nShow up in your brightest\, wildest\, most outrageous outfit to honor the man who never fails to stand out. The more colorful\, the better — bonus points for funky patterns\, neon\, and anything that screams LUKAS! \n✨ Format: \n\nShuffle Draw — meet new teammates every game!\nEveryone plays 3-4 pool play games with random partners. Games depend on time.\nAfter pool play\, scores are tallied and teams are set for a double elimination bracket.\nBUT… it’s Lukas’ birthday — so HE gets to pick his dream team for bracket play.\n\n🎈 Spots are reserved for Lukas’s close friends\, so all participants are subject to being moved to the waitlist at any time. Thanks for understanding — this is his day! \nCome ready to compete\, have fun\, and help us throw a party as unforgettable as Lukas himself! \nEntry fee is $40 per person and first place is taking home some Phoenix beach Slunks! Venmo @phoenixbeachvb or Zelle 480-249-2242 \n 
URL:https://phoenixbeachvb.com/event/lukas-floyds-all-the-colors-bday-bash/
LOCATION:RT O’Sullivan’s\, 7919 E Thomas Rd #101\, Scottsdale\, AZ\, 85251\, United States
END:VEVENT
BEGIN:VEVENT
DTSTART;TZID=America/Phoenix:20250822T180000
DTEND;TZID=America/Phoenix:20250822T180000
DTSTAMP:20260423T194034
CREATED:20250812T013534Z
LAST-MODIFIED:20250812T034101Z
UID:10001763-1755885600-1755885600@phoenixbeachvb.com
SUMMARY:Kyle Dudes Bday Draw
DESCRIPTION:🎉🏐 KYLE DUDEVOIR BIRTHDAY BASH 🏐🎉 \n📅 Friday\, August 22nd \n📍 Phoenix Beach Volleyball \n💵 $25 per player \n🕕 Check-in: 6:00 PM \nWe’re throwing down for Kyle Dudevoir’s birthday — and you’re invited! 🎂🔥 \n✨ FORMAT: \n🔹 Individual Draw ! \n🔹 Teammate requests allowed if it’s fair to the tourney. \n🔹 Birthday Perk: Kyle’s rolling in with his own hand-picked squad 💪 \n🔹 3 Pool Play Games → Double Elimination Bracket 🏆 \nCome celebrate\, compete\, and try your luck against the birthday boy’s dream team!
URL:https://phoenixbeachvb.com/event/kyle-dudes-bday-draw/
LOCATION:RT O’Sullivan’s\, 7919 E Thomas Rd #101\, Scottsdale\, AZ\, 85251\, United States
END:VEVENT
BEGIN:VEVENT
DTSTART;TZID=America/Phoenix:20250823T180000
DTEND;TZID=America/Phoenix:20250823T180000
DTSTAMP:20260423T194034
CREATED:20250805T172854Z
LAST-MODIFIED:20250805T173224Z
UID:10001762-1755972000-1755972000@phoenixbeachvb.com
SUMMARY:Kaillie’s Bday Bash\, Swingers style Shuffle!
DESCRIPTION:🎉 Kaillie Ralston’s Birthday Swingers Shuffle! 🎉 \nSaturday\, August 23rd | Check-in @ 6:00 PM | $35 per player \nWe’re throwing it back to the classic and swingers style to celebrate the one and only Kaillie Ralston on her big day! 🔥 \nExpect a night full of fast-paced games\, rotating partners\, and that signature Kaillie energy we all know and love. \n👫 Traditional Swingers Shuffle \n💵 $35 Entry Fee \n🕕 Check-in at 6:00 PM \n🎁 Prizes for the top performers \n🎂 Birthday vibes all night \nSpots are limited and you already know it’s gonna fill FAST — come celebrate Kaillie the right way: with good vibes and even better volleyball! Don’t miss the sign up! Spots are limited to the first 32 players!
URL:https://phoenixbeachvb.com/event/kaillies-bday-bash-swingers-style/
LOCATION:RT O’Sullivan’s\, 7919 E Thomas Rd #101\, Scottsdale\, AZ\, 85251\, United States
END:VEVENT
BEGIN:VEVENT
DTSTART;TZID=America/Phoenix:20250829T180000
DTEND;TZID=America/Phoenix:20250829T180000
DTSTAMP:20260423T194034
CREATED:20250826T170602Z
LAST-MODIFIED:20250907T180135Z
UID:10001766-1756490400-1756490400@phoenixbeachvb.com
SUMMARY:Pick Your Prize FND
DESCRIPTION:Pick Your Prize FND 🎁🏐 \nFriday\, Sept 12th \nCheck-in: 6:00 PM | Cap: 32 players \nDo you have a pair of the exclusive 2025 Phoenix Beach Slunks (if you haven’t won a pair yet)? Do you need a new OPTX ball? Or a backpack? Here is your chance to win! \nRoll into Friday Night Draw! The top finishers pick their prize from the swag table at the end! \nWhat to expect \n\nClassic PBV Draw\nFast\, fun pool play\nPrizes for the winners— you choose your prize 🎁\nGood vibes\, great competition\n\nHow to get in \n\n32 spots only — first come\, first served\nReserve your spot now: Venmo $25 to @phoenixbeachvb (add “Pick Your Prize FND” + your full name in the note)\n\nNotes \n\nPlease arrive by 6:00 PM for check-in and warm-ups\nWe’ll build balanced courts and keep things moving!
URL:https://phoenixbeachvb.com/event/pick-your-prize-fnd/
LOCATION:RT O’Sullivan’s\, 7919 E Thomas Rd #101\, Scottsdale\, AZ\, 85251\, United States
END:VEVENT
BEGIN:VEVENT
DTSTART;TZID=America/Phoenix:20250830T163000
DTEND;TZID=America/Phoenix:20250830T233000
DTSTAMP:20260423T194034
CREATED:20250701T214353Z
LAST-MODIFIED:20250825T161315Z
UID:10001752-1756571400-1756596600@phoenixbeachvb.com
SUMMARY:🚩 🚩 Rylee’s “Red Flag” Birthday Bash 🚩 🚩
DESCRIPTION:🎉 BIRTHDAY BASH for RYLEE! 🎉 \nWe’re throwing a birthday coed shuffle draw to celebrate our favorite badass babe — and you’re on the guest list! 💃🏐🎂 \nAs Rylee loves to do\, we are going to have an awesome theme for this event! Rylee wants to know what your biggest red flag is! Wear your red shirts and write your “red flag” on it! We are going to learn a LOT about each other this weekend! \n🔥 32 players max – 16 guys\, 16 girls \n💸 $40/player \n🕑 Check-in at 430 PM | 📅 Aug 30th \n📲 Venmo @phoenixbeachvb \nEach player gets 3 pool play games with 3 different teams\, 3 different formats! And your performance determines who you’ll team up with in bracket play! \n💥 Top guy + top girl pair up to create a power duo for the bracket… \nBUT it’s Rylee’s birthday — so she’s calling the shots. \n🎁 She gets to choose her teammates and stick with them the entire tournament! \n🏆 Prizes for 1st and 2nd \n🥇 First place wins the exclusive 2025 Phoenix Beach Slunks! \nWe’re bringing the heat\, the fun\, and the birthday love — don’t miss your chance to help us celebrate Rylee-style! \nThis is first an invite-only event for Rylee’s crew. If you’re added to the waitlist\, please know it’s because spots are reserved for her birthday squad!
URL:https://phoenixbeachvb.com/event/rylees-birthday-bash/
LOCATION:RT O’Sullivan’s\, 7919 E Thomas Rd #101\, Scottsdale\, AZ\, 85251\, United States
END:VEVENT
END:VCALENDAR