BEGIN:VCALENDAR
VERSION:2.0
PRODID:-//Phoenix Beach Volleyball - ECPv6.15.20//NONSGML v1.0//EN
CALSCALE:GREGORIAN
METHOD:PUBLISH
X-WR-CALNAME:Phoenix Beach Volleyball
X-ORIGINAL-URL:https://phoenixbeachvb.com
X-WR-CALDESC:Events for Phoenix Beach Volleyball
REFRESH-INTERVAL;VALUE=DURATION:PT1H
X-Robots-Tag:noindex
X-PUBLISHED-TTL:PT1H
BEGIN:VTIMEZONE
TZID:America/Phoenix
BEGIN:STANDARD
TZOFFSETFROM:-0700
TZOFFSETTO:-0700
TZNAME:MST
DTSTART:20250101T000000
END:STANDARD
END:VTIMEZONE
BEGIN:VEVENT
DTSTART;TZID=America/Phoenix:20260110T100000
DTEND;TZID=America/Phoenix:20260110T183000
DTSTAMP:20260423T122804
CREATED:20251215T234635Z
LAST-MODIFIED:20260105T165309Z
UID:10001804-1768039200-1768069800@phoenixbeachvb.com
SUMMARY:Valerie’s Birthday Swingers Shuffle\, Olympic Edition
DESCRIPTION:🏅 Valerie’s Birthday Bash: Olympic Swingers Shuffle Draw 🌍🎉 \nJoin us as we celebrate Valerie’s birthday with an international showdown! Countries will clash\, pride will be on the line\, and the vibes will be gold-medal level. \n🌎 Theme: Countries Competing in the Olympics \n👕 Uniforms encouraged — rep your country loud and proud \n🏐 Format: Swingers Shuffle Draw (new partners\, nonstop action) Taking 16 guys and 16 girls! As always\, birthday guest list takes priority! \n⏰ Schedule \n• Check-in: 10:00 AM \n• Play begins: 10:30 AM \n💲 Cost: $35 per person (Venmo @phoenixbeachvb or Zelle 480-249-2242 when you register please!!) \nExpect competitive games\, fun matchups\, plenty of laughs\, and a birthday celebration worthy of the opening ceremonies. Whether you’re Team USA\, Team Brazil\, or a creative wildcard nation\, bring the energy and let the games begin! \n🥇🎂 Let’s give Valerie a birthday worthy of the podium!
URL:https://phoenixbeachvb.com/event/valeries-birthday-swingers-shuffle-olympic-edition/
LOCATION:RT O’Sullivan’s\, 7919 E Thomas Rd #101\, Scottsdale\, AZ\, 85251\, United States
END:VEVENT
BEGIN:VEVENT
DTSTART;TZID=America/Phoenix:20260116T180000
DTEND;TZID=America/Phoenix:20260116T180000
DTSTAMP:20260423T122804
CREATED:20241112T145240Z
LAST-MODIFIED:20260216T153535Z
UID:10001607-1768586400-1768586400@phoenixbeachvb.com
SUMMARY:“Send a foster kid to RFKC Summer Camp” FND
DESCRIPTION:💙 Play for a Purpose – RFKC Fundraiser Hosted by Bella 💙 \nJoin us for a special event with a powerful mission: sending a foster child to summer camp. This fundraiser is hosted by Bella in partnership with Royal Family Kids Camp (RFKC). \nRoyal Family Kids Camp is a week-long summer camp sponsored by Redeemer Bible Church\, created specifically for kids who are currently in—or have previously been part of—the foster care system. For many of these kids\, this camp is more than just a fun week away—it’s a chance to feel safe\, valued\, and cared for\, often for the first time in a long time. \nYour participation helps cover the cost for a child to attend camp\, giving them: \n\nA full week of activities\, games\, and outdoor fun\nConsistent\, caring adult mentors\nA safe environment built on encouragement\, stability\, and joy\nMemories that can genuinely change the trajectory of their life\n\nEvery dollar raised goes directly toward making this experience possible for a foster child who truly deserves it. \nCome out\, have fun\, and help us make a real difference—one kid\, one week\, one life at a time. 💙
URL:https://phoenixbeachvb.com/event/frosty-fours-fnd/2026-01-16/
LOCATION:RT O’Sullivan’s\, 7919 E Thomas Rd #101\, Scottsdale\, AZ\, 85251\, United States
END:VEVENT
BEGIN:VEVENT
DTSTART;TZID=America/Phoenix:20260118T100000
DTEND;TZID=America/Phoenix:20260118T170000
DTSTAMP:20260423T122804
CREATED:20250106T172407Z
LAST-MODIFIED:20260113T032246Z
UID:10001621-1768730400-1768755600@phoenixbeachvb.com
SUMMARY:First Sunday Swingers of 2026!!
DESCRIPTION:The FIRST Sunday Swingers of 2026! A high of mid 70s projected for Sunday so let’s get some Traditional swingers going for 2026!! \nWe are taking up to 16 coed pairs\, first come first serve. Check in is at 10\, with pool play beginning at 1030AM. 5 full games to 21 are guaranteed!! Each pair will play 3 games of pool play with 3 different pairs\, 1 game of regular coed (men’s net)\, one game of reverse coed (ladies net rules!) and 1 game half and half! \nDouble elimination bracket play\, with teams made based on your pool play results! Win\, and keep your pairing. Lose? You get a new pair to battle with! \nThe cost is only $30 per player for this first event of the season!! We will have prizes for first and second place based on tournament sign ups. Tournament fees are payable via the following options: \nVenmo (phoenixbeachvb)\nZelle (480-249-2242) \nPlease ensure you are paid in full prior to tournament starting. Thank you.
URL:https://phoenixbeachvb.com/event/first-sunday-swingers-of-2025/
LOCATION:RT O’Sullivan’s\, 7919 E Thomas Rd #101\, Scottsdale\, AZ\, 85251\, United States
END:VEVENT
BEGIN:VEVENT
DTSTART;TZID=America/Phoenix:20260123T180000
DTEND;TZID=America/Phoenix:20260123T180000
DTSTAMP:20260423T122804
CREATED:20260119T184929Z
LAST-MODIFIED:20260120T023033Z
UID:10001807-1769191200-1769191200@phoenixbeachvb.com
SUMMARY:Friday Swingers “Send a foster kid to RFKC Summer Camp”
DESCRIPTION:💙 Play for a Purpose – RFKC Fundraiser Hosted by Bella 💙 \nSign up as a coed pair! Each pair will play 3 rounds of pool play and get paired up with their teammates for bracket! During playoffs\, if you win\, you stay together\, lose and get a new pair to do battle with. \nJoin us for a special event with a powerful mission: sending a foster child to summer camp. This fundraiser is hosted by Bella in partnership with Royal Family Kids Camp (RFKC). \nRoyal Family Kids Camp is a week-long summer camp sponsored by Redeemer Bible Church\, created specifically for kids who are currently in—or have previously been part of—the foster care system. For many of these kids\, this camp is more than just a fun week away—it’s a chance to feel safe\, valued\, and cared for\, often for the first time in a long time. \nYour participation helps cover the cost for a child to attend camp\, giving them: \n\nA full week of activities\, games\, and outdoor fun\nConsistent\, caring adult mentors\nA safe environment built on encouragement\, stability\, and joy\nMemories that can genuinely change the trajectory of their life\n\nEvery dollar raised goes directly toward making this experience possible for a foster child who truly deserves it. \nCome out\, have fun\, and help us make a real difference—one kid\, one week\, one life at a time. 💙
URL:https://phoenixbeachvb.com/event/friday-swingers-send-a-foster-kid-to-rfkc-summer-camp/
LOCATION:RT O’Sullivan’s\, 7919 E Thomas Rd #101\, Scottsdale\, AZ\, 85251\, United States
END:VEVENT
BEGIN:VEVENT
DTSTART;TZID=America/Phoenix:20260124T103000
DTEND;TZID=America/Phoenix:20260124T183000
DTSTAMP:20260423T122804
CREATED:20260106T001339Z
LAST-MODIFIED:20260123T221950Z
UID:10001806-1769250600-1769279400@phoenixbeachvb.com
SUMMARY:Colleen’s Birthday Bash
DESCRIPTION:Hey yall\, the one and only “Glizzy Queen” Colleen is having a little birthday celebration tournament and you’re all invited! She’s turning 30 ish! Wednesday league players\, feel free to sign up as a team! Everyone else\, sign up individually. We will take requests for teammates and do our best to make it happen as long as the teams are fair. If you’re a league team signing up a team of 4\, put the team name in parentheses next to your name! \nThe theme is hot dogs\, because that’s Colleen’s favorite food! Come dressed as a condiment or in your best hot dog themed clothing! \nCheck in us 1030AM\, play begins at 11! Entry fee is $25 per player\, and please pay when you sign up! Venmo is @phoenixbeachvb or Zelle 480-249-2242 or bring cash day of. \nAll players will get 3 pool play games followed by a double elimination bracket!
URL:https://phoenixbeachvb.com/event/colleens-birthday-bash/
LOCATION:RT O’Sullivan’s\, 7919 E Thomas Rd #101\, Scottsdale\, AZ\, 85251\, United States
END:VEVENT
BEGIN:VEVENT
DTSTART;TZID=America/Phoenix:20260130T180000
DTEND;TZID=America/Phoenix:20260130T180000
DTSTAMP:20260423T122804
CREATED:20250907T174626Z
LAST-MODIFIED:20260126T194642Z
UID:10001810-1769796000-1769796000@phoenixbeachvb.com
SUMMARY:Best of Phoenix Beach Ultimate Shuffle Draw
DESCRIPTION:🏐 Ultimate Shuffle Champions Draw 🏐\nWelcome to the Phoenix Beach Ultimate Shuffle Champions Draw – the ultimate test of consistency\, versatility\, and endurance! Check in 6PM\, Play at 630! \n🎲 Format \n\n6 Guaranteed Games: Every player will compete in 6 different games\, each time with a new team.\nTop 16 Advance: After 6 rounds\, the top 16 players based on results will move on.\n\n🔀 Semi Final Phase \n\n3 More Shuffle Games: The final 16 will shuffle once again\, playing 3 more games to determine who rises to the top.\n\n🏆 Championship \n\nFinal 8 Players: The best 8 competitors will move on to the ultimate showdown.\n2 Teams – 1 Champion: The final 8 will split into two teams of 4 and battle it out in a best 2-of-3 series to crown the Ultimate Shuffle Champions.\n\n📌 Notes \n\nAdvancement format and tiebreakers are at the discretion of the Tournament Director.\nExpect a fast-paced\, high-energy event where every game matters.\nBring your A-game – consistency is key\, but the shuffle may surprise you!\n\n$25 per player payable via Venmo @phoenixbeachvb or Zelle 480-249-2242\, or always cash day of.
URL:https://phoenixbeachvb.com/event/best-of-phoenix-beach-ultimate-shuffle-draw/2026-01-30/
LOCATION:RT O’Sullivan’s\, 7919 E Thomas Rd #101\, Scottsdale\, AZ\, 85251\, United States
END:VEVENT
END:VCALENDAR